BEGIN:VCALENDAR
VERSION:2.0
PRODID:-//Hangar78 - ECPv6.15.20//NONSGML v1.0//EN
CALSCALE:GREGORIAN
METHOD:PUBLISH
X-ORIGINAL-URL:https://www.hangar78.com
X-WR-CALDESC:Eventi per Hangar78
REFRESH-INTERVAL;VALUE=DURATION:PT1H
X-Robots-Tag:noindex
X-PUBLISHED-TTL:PT1H
BEGIN:VTIMEZONE
TZID:Europe/Rome
BEGIN:DAYLIGHT
TZOFFSETFROM:+0100
TZOFFSETTO:+0200
TZNAME:CEST
DTSTART:20240331T010000
END:DAYLIGHT
BEGIN:STANDARD
TZOFFSETFROM:+0200
TZOFFSETTO:+0100
TZNAME:CET
DTSTART:20241027T010000
END:STANDARD
BEGIN:DAYLIGHT
TZOFFSETFROM:+0100
TZOFFSETTO:+0200
TZNAME:CEST
DTSTART:20250330T010000
END:DAYLIGHT
BEGIN:STANDARD
TZOFFSETFROM:+0200
TZOFFSETTO:+0100
TZNAME:CET
DTSTART:20251026T010000
END:STANDARD
BEGIN:DAYLIGHT
TZOFFSETFROM:+0100
TZOFFSETTO:+0200
TZNAME:CEST
DTSTART:20260329T010000
END:DAYLIGHT
BEGIN:STANDARD
TZOFFSETFROM:+0200
TZOFFSETTO:+0100
TZNAME:CET
DTSTART:20261025T010000
END:STANDARD
END:VTIMEZONE
BEGIN:VEVENT
DTSTART;TZID=Europe/Rome:20250224T090000
DTEND;TZID=Europe/Rome:20250226T180000
DTSTAMP:20260425T174257
CREATED:20240924T104833Z
LAST-MODIFIED:20240924T105342Z
UID:10000019-1740387600-1740592800@www.hangar78.com
SUMMARY:Il semifreddo
DESCRIPTION:Tecniche di preparazione di torte e monoporzioni sottozero artigianali\nTre giorni dedicati al semifreddo\, alla produzione razionale di semifreddi artigianali partendo dalle basi della pasticceria sottozero.\nRealizzazione di basi da forno\, masse montate e pasti friabili\, inserimenti con diverse texture. Tipologia e bilanciamento del semifreddo.\nLa produzione e la gestione delle basi del semifreddo\, le glasse\, le tecniche di produzione\, la gestione\, la conservazione e i decori. \nModalità: Corso pratico e teorico. \nIl corso verrà attivato previo raggiungimento del numero minimo di partecipanti. \nOrari \n\nAccoglienza ore 8:30\nInizio corso ore 9:00\nFine corso ore 17:30\n\n 
URL:https://www.hangar78.com/event/il-semifreddo/
LOCATION:hangar78\, Via Tagliamento 78\, Pianiga\, 30030\, Italia
CATEGORIES:professionale
ATTACH;FMTTYPE=image/jpeg:https://www.hangar78.com/wp-content/uploads/2024/09/corso_semifreddo.jpg
END:VEVENT
END:VCALENDAR