BEGIN:VCALENDAR
VERSION:2.0
PRODID:-//Hangar78 - ECPv6.15.20//NONSGML v1.0//EN
CALSCALE:GREGORIAN
METHOD:PUBLISH
X-ORIGINAL-URL:https://www.hangar78.com
X-WR-CALDESC:Eventi per Hangar78
REFRESH-INTERVAL;VALUE=DURATION:PT1H
X-Robots-Tag:noindex
X-PUBLISHED-TTL:PT1H
BEGIN:VTIMEZONE
TZID:Europe/Rome
BEGIN:DAYLIGHT
TZOFFSETFROM:+0100
TZOFFSETTO:+0200
TZNAME:CEST
DTSTART:20240331T010000
END:DAYLIGHT
BEGIN:STANDARD
TZOFFSETFROM:+0200
TZOFFSETTO:+0100
TZNAME:CET
DTSTART:20241027T010000
END:STANDARD
BEGIN:DAYLIGHT
TZOFFSETFROM:+0100
TZOFFSETTO:+0200
TZNAME:CEST
DTSTART:20250330T010000
END:DAYLIGHT
BEGIN:STANDARD
TZOFFSETFROM:+0200
TZOFFSETTO:+0100
TZNAME:CET
DTSTART:20251026T010000
END:STANDARD
BEGIN:DAYLIGHT
TZOFFSETFROM:+0100
TZOFFSETTO:+0200
TZNAME:CEST
DTSTART:20260329T010000
END:DAYLIGHT
BEGIN:STANDARD
TZOFFSETFROM:+0200
TZOFFSETTO:+0100
TZNAME:CET
DTSTART:20261025T010000
END:STANDARD
END:VTIMEZONE
BEGIN:VEVENT
DTSTART;TZID=Europe/Rome:20251030T193000
DTEND;TZID=Europe/Rome:20251030T220000
DTSTAMP:20260425T043520
CREATED:20250402T142400Z
LAST-MODIFIED:20251024T092839Z
UID:10000066-1761852600-1761861600@www.hangar78.com
SUMMARY:Thanksgiving all'italiana
DESCRIPTION:Trasforma una tradizione americana in una cena dai sapori italiani. \nVivi l’atmosfera del Thanksgiving\, una tradizione americana che celebra la gratitudine\, con un tocco tutto italiano! In questo corso ti insegneremo a preparare una cena che unisce il meglio della tradizione americana\, ma con un twist più semplice e veloce. Pollo ripieno al posto del tacchino\, pane di mais e pumpkin pie: un vero e proprio banchetto\, ma pensato per adattarsi ai tempi e ai gusti italiani. Unisciti a noi per un’esperienza divertente e conviviale\, dove potrai scoprire come portare in tavola una festività americana reinterpretata in chiave italiana. \nCosa è compreso nel corso:\n\nRicettario e dispensa del corso\nDegustazione dei prodotti realizzati\n\nAl termine del corso verrà rilasciato l’attestato di partecipazione. \nOrari:\nAccoglienza ore 19.15 \nInizio corso ore 19.30 \nFine corso ore 22.00 \n 
URL:https://www.hangar78.com/event/thanksgiving-allitaliana/
LOCATION:hangar78\, Via Tagliamento 78\, Pianiga\, 30030\, Italia
CATEGORIES:amatoriale
ATTACH;FMTTYPE=image/jpeg:https://www.hangar78.com/wp-content/uploads/2025/04/Thanksgiving-allitaliana.jpg
END:VEVENT
END:VCALENDAR