BEGIN:VCALENDAR
VERSION:2.0
PRODID:-//Hangar78 - ECPv6.15.20//NONSGML v1.0//EN
CALSCALE:GREGORIAN
METHOD:PUBLISH
X-WR-CALNAME:Hangar78
X-ORIGINAL-URL:https://www.hangar78.com
X-WR-CALDESC:Eventi per Hangar78
REFRESH-INTERVAL;VALUE=DURATION:PT1H
X-Robots-Tag:noindex
X-PUBLISHED-TTL:PT1H
BEGIN:VTIMEZONE
TZID:Europe/Rome
BEGIN:DAYLIGHT
TZOFFSETFROM:+0100
TZOFFSETTO:+0200
TZNAME:CEST
DTSTART:20240331T010000
END:DAYLIGHT
BEGIN:STANDARD
TZOFFSETFROM:+0200
TZOFFSETTO:+0100
TZNAME:CET
DTSTART:20241027T010000
END:STANDARD
BEGIN:DAYLIGHT
TZOFFSETFROM:+0100
TZOFFSETTO:+0200
TZNAME:CEST
DTSTART:20250330T010000
END:DAYLIGHT
BEGIN:STANDARD
TZOFFSETFROM:+0200
TZOFFSETTO:+0100
TZNAME:CET
DTSTART:20251026T010000
END:STANDARD
BEGIN:DAYLIGHT
TZOFFSETFROM:+0100
TZOFFSETTO:+0200
TZNAME:CEST
DTSTART:20260329T010000
END:DAYLIGHT
BEGIN:STANDARD
TZOFFSETFROM:+0200
TZOFFSETTO:+0100
TZNAME:CET
DTSTART:20261025T010000
END:STANDARD
END:VTIMEZONE
BEGIN:VEVENT
DTSTART;TZID=Europe/Rome:20251113T193000
DTEND;TZID=Europe/Rome:20251113T220000
DTSTAMP:20260425T043339
CREATED:20250402T143340Z
LAST-MODIFIED:20250903T093536Z
UID:10000067-1763062200-1763071200@www.hangar78.com
SUMMARY:Creme spalmabili dolci e salate
DESCRIPTION:Trasforma il classico delle feste in un capolavoro di sapori dolci e salati che lascerà tutti a bocca aperta. \nImmagina di aggiungere un tocco speciale al tuo panettone\, trasformandolo in un’esplosione di gusto con creme spalmabili irresistibili\, oppure di preparare un panettone gastronomico che stupisce tutti con sapori nuovi e sorprendenti. In questo corso ti guideremo nella creazione di deliziose creme spalmabili da abbinare al tuo panettone\, sia dolce che salato\, per rendere ogni morso un’esperienza unica. Scopriremo insieme come arricchire il classico panettone con abbinamenti sfiziosi e originali\, perfetti per le feste. Unisciti a noi per scoprire il piacere di preparare lievitati dolci e salati che vanno ben oltre le solite ricette\, dando una marcia in più alle tue preparazioni natalizie! \nCosa è compreso nel corso:\n\nRicettario e dispensa del corso\nDegustazione dei prodotti realizzati\n\nAl termine del corso verrà rilasciato l’attestato di partecipazione. \nOrari:\nAccoglienza ore 19.15 \nInizio corso ore 19.30 \nFine corso ore 22.00
URL:https://www.hangar78.com/event/creme-spalmabili-dolci-e-e-salate-per-il-tuo-panettone/
LOCATION:hangar78\, Via Tagliamento 78\, Pianiga\, 30030\, Italia
CATEGORIES:amatoriale,amatoriale pasticceria
ATTACH;FMTTYPE=image/jpeg:https://www.hangar78.com/wp-content/uploads/2025/04/homemade-sweet-condensed-milk-1.jpg
END:VEVENT
END:VCALENDAR