BEGIN:VCALENDAR
VERSION:2.0
PRODID:-//Hangar78 - ECPv6.15.20//NONSGML v1.0//EN
CALSCALE:GREGORIAN
METHOD:PUBLISH
X-WR-CALNAME:Hangar78
X-ORIGINAL-URL:https://www.hangar78.com
X-WR-CALDESC:Eventi per Hangar78
REFRESH-INTERVAL;VALUE=DURATION:PT1H
X-Robots-Tag:noindex
X-PUBLISHED-TTL:PT1H
BEGIN:VTIMEZONE
TZID:Europe/Rome
BEGIN:DAYLIGHT
TZOFFSETFROM:+0100
TZOFFSETTO:+0200
TZNAME:CEST
DTSTART:20250330T010000
END:DAYLIGHT
BEGIN:STANDARD
TZOFFSETFROM:+0200
TZOFFSETTO:+0100
TZNAME:CET
DTSTART:20251026T010000
END:STANDARD
BEGIN:DAYLIGHT
TZOFFSETFROM:+0100
TZOFFSETTO:+0200
TZNAME:CEST
DTSTART:20260329T010000
END:DAYLIGHT
BEGIN:STANDARD
TZOFFSETFROM:+0200
TZOFFSETTO:+0100
TZNAME:CET
DTSTART:20261025T010000
END:STANDARD
BEGIN:DAYLIGHT
TZOFFSETFROM:+0100
TZOFFSETTO:+0200
TZNAME:CEST
DTSTART:20270328T010000
END:DAYLIGHT
BEGIN:STANDARD
TZOFFSETFROM:+0200
TZOFFSETTO:+0100
TZNAME:CET
DTSTART:20271031T010000
END:STANDARD
END:VTIMEZONE
BEGIN:VEVENT
DTSTART;TZID=Europe/Rome:20260504T090000
DTEND;TZID=Europe/Rome:20260505T170000
DTSTAMP:20260424T164212
CREATED:20251002T122905Z
LAST-MODIFIED:20260408T095757Z
UID:10000099-1777885200-1778000400@www.hangar78.com
SUMMARY:Tecniche di cake design
DESCRIPTION:Le torte decorate per eventi speciali \nIl corso professionale tenuto dalla Pastry Chef Valentina Colnago è pensato per chi desidera imparare a realizzare torte scenografiche\, ideali per feste e occasioni speciali. Un percorso formativo completo che ti guiderà passo dopo passo nella creazione di dolci spettacolari\, ricchi di colori\, dettagli e decorazioni d’effetto. \nDurante la prima giornata\, ti dedicherai alla preparazione delle basi e all’assemblaggio iniziale della torta\, acquisendo le tecniche fondamentali per garantire solidità e armonia nella struttura. \nLa seconda giornata sarà invece interamente dedicata alla parte creativa: completerai i vari piani della torta e ti concentrerai sulle decorazioni\, esplorando stili differenti e realizzando piccoli soggetti ornamentali. \nQuesto corso rappresenta un’occasione preziosa per affinare le tue competenze nel cake design e trasformare ogni torta in una vera opera d’arte. \nModalità: corso interattivo \nProgramma dettagliato:\nRealizzazione di due basi torte (neutra /cacao)\nRealizzazione farcitura\n(Bianca-mascarpone e cioccolato)\nRealizzazione di ganache da copertura\nRealizzazione di crema a burro da copertura e decorazione\nAssemblaggio\, farcitura e costruzione torta\nDecorazione \nIl corso verrà attivato previo raggiungimento del numero minimo di partecipanti \nCosa è compreso nel corso: \n\nRicettario e dispensa del corso\nCoffee break\nLight lunch a buffet\n\nAl termine del corso verrà rilasciato l’attestato di partecipazione firmato dal docente. \nArticolazione Orari: \n\nAccoglienza ore 8:30\nInizio corso ore 9:00\nFine corso ore 17:00\n\nFocus on: Pastry Chef Valentina Colnago  \nValentina Colnago\, cake designer originaria di Monza\, fondatrice di Nisa Cake Studio a Benevento\, dove crea dolci personalizzati che uniscono gusto e bellezza per ogni occasione.
URL:https://www.hangar78.com/event/tecniche-di-cake-design-3/
LOCATION:Via Tagliamento 78\, Venezia\, 30030\, Italy
CATEGORIES:amatoriale,pasticceria,professionale
ATTACH;FMTTYPE=image/jpeg:https://www.hangar78.com/wp-content/uploads/2025/10/cake-design.jpg
END:VEVENT
BEGIN:VEVENT
DTSTART;TZID=Europe/Rome:20260518T180000
DTEND;TZID=Europe/Rome:20260518T220000
DTSTAMP:20260424T164212
CREATED:20260421T143000Z
LAST-MODIFIED:20260423T075219Z
UID:10000101-1779127200-1779141600@www.hangar78.com
SUMMARY:L’arte della pasta fresca
DESCRIPTION:Questo corso pratico di pasta fresca fatta in casa è pensato per chi ama la cucina come uno spazio di creatività e vuole trasformare una semplice cena in un’esperienza gastronomica unica. \nInsieme a Monica Bianchessi\, scoprirai come la conoscenza delle basi della cucina possa liberare la tua fantasia\, celebrando l’arte della pasta artigianale con la complicità di Kenwood. \nCosa imparerai\nDurante il corso sull’arte della pasta fresca\, imparerai: \n\n\nLa tecnica perfetta per stendere la sfoglia fatta in casa \n\n\nLa preparazione dei formati classici di pasta fresca: fettuccine\, ravioli e lasagne \n\n\nL’uso consapevole di materie prime di qualità per ottenere risultati straordinari \n\n\nUnisciti a noi e porta la tua passione per la cucina italiana a un livello superiore\, trasformando ogni piatto di pasta in una vera esperienza gourmet. \n\nModalità corso: Pratico \n\nChef Monica Bianchessi\nA guidarti sarà Monica Bianchessi\, volto noto della cucina italiana: dopo aver portato avanti la sua Trattoria Via Vai a Crema\, è entrata nel mondo Kenwood come chef e ambasciatrice italiana del brand. Ha lavorato in TV per molti anni ed è oggi molto attiva sui social insieme alla figlia Delia\, dove condivide ricette e passione in modo semplice e autentico.
URL:https://www.hangar78.com/event/larte-della-pasta-fresca/
LOCATION:hangar78\, Via Tagliamento 78\, Pianiga\, 30030\, Italia
CATEGORIES:amatoriale,amatoriale ristorazione
ATTACH;FMTTYPE=image/jpeg:https://www.hangar78.com/wp-content/uploads/2026/04/fettuccine_con_asparagi_piselli.jpg
END:VEVENT
END:VCALENDAR