BEGIN:VCALENDAR
VERSION:2.0
PRODID:-//Hangar78 - ECPv6.15.20//NONSGML v1.0//EN
CALSCALE:GREGORIAN
METHOD:PUBLISH
X-WR-CALNAME:Hangar78
X-ORIGINAL-URL:https://www.hangar78.com
X-WR-CALDESC:Eventi per Hangar78
REFRESH-INTERVAL;VALUE=DURATION:PT1H
X-Robots-Tag:noindex
X-PUBLISHED-TTL:PT1H
BEGIN:VTIMEZONE
TZID:Europe/Rome
BEGIN:DAYLIGHT
TZOFFSETFROM:+0100
TZOFFSETTO:+0200
TZNAME:CEST
DTSTART:20240331T010000
END:DAYLIGHT
BEGIN:STANDARD
TZOFFSETFROM:+0200
TZOFFSETTO:+0100
TZNAME:CET
DTSTART:20241027T010000
END:STANDARD
BEGIN:DAYLIGHT
TZOFFSETFROM:+0100
TZOFFSETTO:+0200
TZNAME:CEST
DTSTART:20250330T010000
END:DAYLIGHT
BEGIN:STANDARD
TZOFFSETFROM:+0200
TZOFFSETTO:+0100
TZNAME:CET
DTSTART:20251026T010000
END:STANDARD
BEGIN:DAYLIGHT
TZOFFSETFROM:+0100
TZOFFSETTO:+0200
TZNAME:CEST
DTSTART:20260329T010000
END:DAYLIGHT
BEGIN:STANDARD
TZOFFSETFROM:+0200
TZOFFSETTO:+0100
TZNAME:CET
DTSTART:20261025T010000
END:STANDARD
END:VTIMEZONE
BEGIN:VEVENT
DTSTART;TZID=Europe/Rome:20250714T100000
DTEND;TZID=Europe/Rome:20250714T123000
DTSTAMP:20260425T162705
CREATED:20250410T081235Z
LAST-MODIFIED:20250630T094309Z
UID:10000076-1752487200-1752496200@www.hangar78.com
SUMMARY:Aperitivi con il tuo robot da cucina
DESCRIPTION:L’estate è arrivata e non c’è niente di meglio che un aperitivo in terrazza o giardino con amici e famiglia. Con il tuo robot da cucina\, preparerai in pochi minuti piatti freschi e sfiziosi\, come un gazpacho rinfrescante\, mousse delicate da abbinare a crostini o verdure di stagione\, e un aperitivo al sedano che puoi trasformare in un cocktail aggiungendo un po’ di gin. \nImpara a preparare questi aperitivi facili e creativi durante il nostro corso. Porta con te il tuo robot da cucina! e scopri come ottenere risultati deliziosi con il minimo sforzo! \nCosa è compreso nel corso:\n\nRicettario e dispensa del corso\nDegustazione dei prodotti realizzati\n\nAl termine del corso verrà rilasciato l’attestato di partecipazione firmato dal docente. \nArticolazione Orari:\nAccoglienza ore 9.45\nInizio corso ore 10.00\nFine corso ore 12.30 \n 
URL:https://www.hangar78.com/event/cucina-estiva-aperitivi-freschi-e-veloci-con-il-tuo-robot-da-cucina/
LOCATION:hangar78\, Via Tagliamento 78\, Pianiga\, 30030\, Italia
CATEGORIES:amatoriale,amatoriale ristorazione
ATTACH;FMTTYPE=image/jpeg:https://www.hangar78.com/wp-content/uploads/2025/04/Gazpacho-1.jpg
END:VEVENT
END:VCALENDAR