BEGIN:VCALENDAR
VERSION:2.0
PRODID:-//Hangar78 - ECPv6.15.20//NONSGML v1.0//EN
CALSCALE:GREGORIAN
METHOD:PUBLISH
X-WR-CALNAME:Hangar78
X-ORIGINAL-URL:https://www.hangar78.com
X-WR-CALDESC:Eventi per Hangar78
REFRESH-INTERVAL;VALUE=DURATION:PT1H
X-Robots-Tag:noindex
X-PUBLISHED-TTL:PT1H
BEGIN:VTIMEZONE
TZID:Europe/Rome
BEGIN:DAYLIGHT
TZOFFSETFROM:+0100
TZOFFSETTO:+0200
TZNAME:CEST
DTSTART:20240331T010000
END:DAYLIGHT
BEGIN:STANDARD
TZOFFSETFROM:+0200
TZOFFSETTO:+0100
TZNAME:CET
DTSTART:20241027T010000
END:STANDARD
BEGIN:DAYLIGHT
TZOFFSETFROM:+0100
TZOFFSETTO:+0200
TZNAME:CEST
DTSTART:20250330T010000
END:DAYLIGHT
BEGIN:STANDARD
TZOFFSETFROM:+0200
TZOFFSETTO:+0100
TZNAME:CET
DTSTART:20251026T010000
END:STANDARD
BEGIN:DAYLIGHT
TZOFFSETFROM:+0100
TZOFFSETTO:+0200
TZNAME:CEST
DTSTART:20260329T010000
END:DAYLIGHT
BEGIN:STANDARD
TZOFFSETFROM:+0200
TZOFFSETTO:+0100
TZNAME:CET
DTSTART:20261025T010000
END:STANDARD
END:VTIMEZONE
BEGIN:VEVENT
DTSTART;TZID=Europe/Rome:20251216T193000
DTEND;TZID=Europe/Rome:20251216T220000
DTSTAMP:20260425T131337
CREATED:20250402T144322Z
LAST-MODIFIED:20251211T092325Z
UID:10000069-1765913400-1765922400@www.hangar78.com
SUMMARY:Regali fatti in casa con amore
DESCRIPTION:Crea i tuoi regali gustosi per le feste. \nQuest’anno\, perché non regalare qualcosa di davvero speciale e fatto con le tue mani? In questo corso ti guiderò nella preparazione di piccole delizie di pasticceria perfette per essere regalate durante le festività. Biscotti e dolcetti da confezionare con amore\, ideali per chi cerca un regalo goloso e personale. Unisciti a noi per imparare a creare piccole bontà che racchiudono tutto il calore delle feste! \nCosa è compreso nel corso:\n\nRicettario e dispensa del corso\nDegustazione dei prodotti realizzati\n\nAl termine del corso verrà rilasciato l’attestato di partecipazione. \nOrari:\nAccoglienza ore 19.15 \nInizio corso ore 19.30 \nFine corso ore 22.00
URL:https://www.hangar78.com/event/regali-fatti-in-casa-con-amore/
LOCATION:hangar78\, Via Tagliamento 78\, Pianiga\, 30030\, Italia
CATEGORIES:amatoriale,amatoriale pasticceria,amatoriale ristorazione
ATTACH;FMTTYPE=image/jpeg:https://www.hangar78.com/wp-content/uploads/2025/04/Regali-fatti-in-casa-con-amore.jpg
END:VEVENT
BEGIN:VEVENT
DTSTART;TZID=Europe/Rome:20251218T193000
DTEND;TZID=Europe/Rome:20251218T220000
DTSTAMP:20260425T131337
CREATED:20250402T144735Z
LAST-MODIFIED:20251112T092736Z
UID:10000070-1766086200-1766095200@www.hangar78.com
SUMMARY:Il menù di San Silvestro
DESCRIPTION:La cena di Capodanno che farà colpo sui tuoi ospiti. \nSe vuoi imparare a preparare una cena di Capodanno elegante e gustosa\, questo corso è ciò che fa per te! Ti guideremo nella preparazione di un primo e un secondo piatto scenici\, che faranno davvero bella figura sulla tua tavola. Non preoccuparti\, non è necessario essere esperti in cucina: insieme impareremo a usare ingredienti freschi e semplici\, ma con qualche trucco per rendere ogni portata raffinata\, proprio come quelle che servono nei migliori ristoranti. \nCosa è compreso nel corso:\n\nRicettario e dispensa del corso\nDegustazione dei prodotti realizzati\n\nAl termine del corso verrà rilasciato l’attestato di partecipazione. \nOrari:\nAccoglienza ore 19.15 \nInizio corso ore 19.30 \nFine corso ore 22.00
URL:https://www.hangar78.com/event/il-menu-di-san-silvestro/
LOCATION:hangar78\, Via Tagliamento 78\, Pianiga\, 30030\, Italia
CATEGORIES:amatoriale,amatoriale pasticceria,amatoriale ristorazione
ATTACH;FMTTYPE=image/jpeg:https://www.hangar78.com/wp-content/uploads/2025/04/Carosello-Ottobre-04207-1.jpg
END:VEVENT
END:VCALENDAR