BEGIN:VCALENDAR
VERSION:2.0
PRODID:-//Hangar78 - ECPv6.15.20//NONSGML v1.0//EN
CALSCALE:GREGORIAN
METHOD:PUBLISH
X-WR-CALNAME:Hangar78
X-ORIGINAL-URL:https://www.hangar78.com
X-WR-CALDESC:Eventi per Hangar78
REFRESH-INTERVAL;VALUE=DURATION:PT1H
X-Robots-Tag:noindex
X-PUBLISHED-TTL:PT1H
BEGIN:VTIMEZONE
TZID:Europe/Rome
BEGIN:DAYLIGHT
TZOFFSETFROM:+0100
TZOFFSETTO:+0200
TZNAME:CEST
DTSTART:20240331T010000
END:DAYLIGHT
BEGIN:STANDARD
TZOFFSETFROM:+0200
TZOFFSETTO:+0100
TZNAME:CET
DTSTART:20241027T010000
END:STANDARD
BEGIN:DAYLIGHT
TZOFFSETFROM:+0100
TZOFFSETTO:+0200
TZNAME:CEST
DTSTART:20250330T010000
END:DAYLIGHT
BEGIN:STANDARD
TZOFFSETFROM:+0200
TZOFFSETTO:+0100
TZNAME:CET
DTSTART:20251026T010000
END:STANDARD
BEGIN:DAYLIGHT
TZOFFSETFROM:+0100
TZOFFSETTO:+0200
TZNAME:CEST
DTSTART:20260329T010000
END:DAYLIGHT
BEGIN:STANDARD
TZOFFSETFROM:+0200
TZOFFSETTO:+0100
TZNAME:CET
DTSTART:20261025T010000
END:STANDARD
END:VTIMEZONE
BEGIN:VEVENT
DTSTART;TZID=Europe/Rome:20251006T090000
DTEND;TZID=Europe/Rome:20251007T173000
DTSTAMP:20260425T012054
CREATED:20250326T133214Z
LAST-MODIFIED:20250929T075712Z
UID:10000057-1759741200-1759858200@www.hangar78.com
SUMMARY:L'Arte della pasticceria mignon
DESCRIPTION:Tecniche raffinate per una piccola pasticceria elegante e creativa\nPartecipa al corso di pasticceria mignon avanzato con il maestro pasticcere Alessandro Tiscione\, pensato per i professionisti del settore che desiderano perfezionare la creazione di dolci mignon che combinano perfezione estetica e armonia dei sapori. In questa masterclass esclusiva\, apprenderai tecniche raffinate per realizzare dolci mignon\, migliorando la gestione delle consistenze\, l’armonia dei gusti e l’eleganza della presentazione. Il corso è ideale per pasticceri professionisti\, chef e operatori del settore che vogliono aggiornarsi sulle ultime tendenze della pasticceria moderna. \nModalità: corso dimostrativo \nIl corso verrà attivato previo raggiungimento del numero minimo di partecipanti \nCosa è compreso nel corso: \n\nRicettario e dispensa del corso\nCoffee break\nLight lunch a buffet\nDegustazione finale dei prodotti realizzati\n\nAl termine del corso verrà rilasciato l’attestato di partecipazione firmato dal docente. \nArticolazione Orari: \n\nAccoglienza ore 8:30\nInizio corso ore 9:00\nFine corso ore 17:00\n\nFocus on: Pastry Chef Alessandro Tiscione  \nAlessandro Tiscione è docente nelle principali scuole di pasticceria e collabora con aziende del settore come consulente e dimostratore\, sia in Italia che all’estero.
URL:https://www.hangar78.com/event/larte-della-pasticceria-mignon/
LOCATION:hangar78\, Via Tagliamento 78\, Pianiga\, 30030\, Italia
CATEGORIES:pasticceria,professionale,ristorazione
ATTACH;FMTTYPE=image/jpeg:https://www.hangar78.com/wp-content/uploads/2025/03/post_nebula30.jpg
END:VEVENT
BEGIN:VEVENT
DTSTART;TZID=Europe/Rome:20251008T090000
DTEND;TZID=Europe/Rome:20251008T170000
DTSTAMP:20260425T012054
CREATED:20250321T104019Z
LAST-MODIFIED:20250829T132638Z
UID:10000048-1759914000-1759942800@www.hangar78.com
SUMMARY:Ricette per la tua offerta di Natale
DESCRIPTION:Teniche di presentazione di grande impatto\nPartecipa al corso intensivo di pasticceria natalizia con il pastry chef Luca Bernardini\, un workshop di una giornata pensato per pasticceri professionisti e operatori del settore che vogliono perfezionare le loro competenze nella creazione di dolci natalizi innovativi. In questa masterclass dimostrativa\, esplorerai tecniche avanzate di pasticceria per realizzare monoporzioni\, torte natalizie\, buche de Noël\, praline e decorazioni di cake natalizi. Scoprirai anche come ottimizzare la produzione e perfezionare la presentazione dei dolci per soddisfare le richieste del mercato natalizio e aumentare le vendite. Un’opportunità unica per perfezionare la tua pasticceria e rendere la tua offerta natalizia irresistibile. \nModalità: corso dimostrativo \nIl corso verrà attivato previo raggiungimento del numero minimo di partecipanti \nCosa è compreso nel corso: \n\nRicettario e dispensa del corso\nCoffee break\nLight lunch a buffet\nDegustazione finale dei prodotti realizzati\n\nAl termine del corso verrà rilasciato l’attestato di partecipazione firmato dal docente. \nArticolazione Orari: \n\nAccoglienza ore 8:30\nInizio corso ore 9:00\nFine corso ore 17:00\n\n  \n  \nFocus on: Pastry Chef Luca Bernardini  \nLuca Bernardini collabora con Silikomart e hangar78\, occupandosi di ricerca e sviluppo di nuove forme e stampi per la pasticceria contemporanea. \n \n  \n  \n  \n 
URL:https://www.hangar78.com/event/rinnova-la-tua-vetrina-natalizia-idee-originali-per-le-feste/
LOCATION:hangar78\, Via Tagliamento 78\, Pianiga\, 30030\, Italia
CATEGORIES:pasticceria,professionale
ATTACH;FMTTYPE=image/jpeg:https://www.hangar78.com/wp-content/uploads/2025/03/Astro_post2-1.jpg
END:VEVENT
BEGIN:VEVENT
DTSTART;TZID=Europe/Rome:20251013T080000
DTEND;TZID=Europe/Rome:20251014T170000
DTSTAMP:20260425T012054
CREATED:20250519T121515Z
LAST-MODIFIED:20250825T102243Z
UID:10000079-1760342400-1760461200@www.hangar78.com
SUMMARY:Pasticceria senza zucchero e senza glutine
DESCRIPTION:L’obiettivo del corso è fornire competenze pratiche e strumenti concreti per creare dessert moderni\, salutari e inclusivi\, in linea con la crescente domanda di prodotti da forno senza zucchero e senza glutine\, ideali per una clientela attenta al benessere e alla qualità degli ingredienti. \nDurante il primo giorno del corso\, i partecipanti approfondiranno la pasticceria senza zuccheri raffinati\, imparando a utilizzare ingredienti naturali a basso indice glicemico come lo zucchero di cocco e lo sciroppo di dattero.\nIl focus sarà su tecniche avanzate per realizzare dolci sani\, gustosi e bilanciati\, con lavorazioni pratiche su impasti\, creme e glassature. \nNel secondo giorno\, il programma si concentrerà sulla pasticceria senza glutine\, con un’analisi tecnica della gestione di impasti e basi senza farina tradizionale. \nI partecipanti esploreranno soluzioni efficaci per ottenere dolci artigianali senza glutine con consistenze e qualità pari alla pasticceria classica. \n  \nFocus on: Pastry Chef Manuel Marzari \nManuel Marzari è specializzato in dolci senza glutine\, latticini e uova\, offre consulenze\, masterclass e corsi online\, condividendo la sua esperienza ventennale con professionisti e appassionati.
URL:https://www.hangar78.com/event/pasticceria-senza-zucchero-e-senza-glutine/
CATEGORIES:pasticceria,professionale
ATTACH;FMTTYPE=image/jpeg:https://www.hangar78.com/wp-content/uploads/2025/05/free_from.jpg
END:VEVENT
BEGIN:VEVENT
DTSTART;TZID=Europe/Rome:20251013T090000
DTEND;TZID=Europe/Rome:20251013T170000
DTSTAMP:20260425T012054
CREATED:20250321T105944Z
LAST-MODIFIED:20251003T102248Z
UID:10000049-1760346000-1760374800@www.hangar78.com
SUMMARY:Pasticceria Senza Zucchero
DESCRIPTION:Tecniche per creare dolci con ingredienti naturali e a basso indice glicemico\nQuesto corso è rivolto a chi desidera approfondire la pasticceria innovativa\, focalizzandosi sulla preparazione di dolci senza zuccheri raffinati. Utilizzando alternative naturali a basso indice glicemico\, come zucchero di cocco e sciroppo di dattero. I partecipanti apprenderanno tecniche avanzate per preparare dolci sani e gustosi. Verranno esplorati impasti\, creme e glasse\, con particolare attenzione all’ottimizzazione delle consistenze e alla qualità del risultato finale. Un’opportunità unica per ampliare le competenze e rispondere alle esigenze di un pubblico attento alla salute e alla qualità degli ingredienti. \nModalità: corso dimostrativo \nIl corso verrà attivato previo raggiungimento del numero minimo di partecipanti \nCosa è compreso nel corso: \n\nRicettario e dispensa del corso\nCoffee break\nLight lunch a buffet\nDegustazione finale dei prodotti realizzati\n\nAl termine del corso verrà rilasciato l’attestato di partecipazione firmato dal docente. \nArticolazione Orari: \n\nAccoglienza ore 8:30\nInizio corso ore 9:00\nFine corso ore 17:00\n\nFocus on: Pastry Chef Manuel Marzari \nManuel Marzari è specializzato in dolci senza glutine\, latticini e uova\, offre consulenze\, masterclass e corsi online\, condividendo la sua esperienza ventennale con professionisti e appassionati. \n 
URL:https://www.hangar78.com/event/pasticceria-senza-zucchero-innovazione-e-gusto-in-ogni-dolce/
LOCATION:hangar78\, Via Tagliamento 78\, Pianiga\, 30030\, Italia
CATEGORIES:amatoriale,pasticceria,professionale,ristorazione
ATTACH;FMTTYPE=image/jpeg:https://www.hangar78.com/wp-content/uploads/2025/03/torta_taglio-1.jpg
END:VEVENT
BEGIN:VEVENT
DTSTART;TZID=Europe/Rome:20251014T090000
DTEND;TZID=Europe/Rome:20251014T170000
DTSTAMP:20260425T012054
CREATED:20250321T110536Z
LAST-MODIFIED:20251003T102104Z
UID:10000050-1760432400-1760461200@www.hangar78.com
SUMMARY:Pasticceria Senza Glutine
DESCRIPTION:Tecniche e soluzioni innovative con impasti senza glutine\nIl corso di pasticceria senza glutine è pensato per chi desidera imparare a realizzare dolci innovativi utilizzando ingredienti selezionati che garantiscono qualità e gusto. I partecipanti esploreranno una vasta gamma di preparazioni\, come creme\, pâte à choux\, frolle e altre basi\, tutte prive di glutine ma con consistenza e qualità pari alla pasticceria tradizionale. Verranno approfondite tecniche avanzate per la gestione degli impasti senza glutine\, affrontando le sfide legate alla sostituzione degli ingredienti convenzionali e fornendo soluzioni per ottenere creazioni soffici\, fragranti e con una struttura perfetta. Un’opportunità per ampliare le proprie competenze e rispondere alla crescente domanda di dolci artigianali senza glutine. \nModalità: corso dimostrativo \nIl corso verrà attivato previo raggiungimento del numero minimo di partecipanti \nCosa è compreso nel corso: \n\nRicettario e dispensa del corso\nCoffee break\nLight lunch a buffet\nDegustazione finale dei prodotti realizzati\n\nAl termine del corso verrà rilasciato l’attestato di partecipazione firmato dal docente. \nArticolazione Orari: \n\nAccoglienza ore 8:30\nInizio corso ore 9:00\nFine corso ore 17:00\n\n  \nFocus on: Pastry Chef Manuel Marzari \nManuel Marzari è specializzato in dolci senza glutine\, latticini e uova\, offre consulenze\, masterclass e corsi online\, condividendo la sua esperienza ventennale con professionisti e appassionati. \n  \n \n 
URL:https://www.hangar78.com/event/pasticceria-senza-glutine-tecniche-per-dolci-perfetti/
LOCATION:hangar78\, Via Tagliamento 78\, Pianiga\, 30030\, Italia
CATEGORIES:amatoriale,pasticceria,professionale,ristorazione
ATTACH;FMTTYPE=image/jpeg:https://www.hangar78.com/wp-content/uploads/2025/03/d48f5aa1-c928-44c9-ae2d-f4801e0c65bc.jpg
END:VEVENT
BEGIN:VEVENT
DTSTART;TZID=Europe/Rome:20251015T090000
DTEND;TZID=Europe/Rome:20251015T170000
DTSTAMP:20260425T012054
CREATED:20250321T112205Z
LAST-MODIFIED:20250929T081039Z
UID:10000051-1760518800-1760547600@www.hangar78.com
SUMMARY:Gestione del Lievito Madre
DESCRIPTION:Tecniche di rinfresco\, conservazione e lavorazione del lievito madre\nIl corso è rivolto a professionisti della pasticceria che desiderano perfezionare la gestione del lievito madre\, ottimizzando ogni fase del processo. Focus principale sarà sull’ottimizzazione dei rinfreschi\, delle tempistiche e delle temperature di fermentazione\, per ottenere impasti perfetti. Verranno esplorati metodi efficaci per mantenere la forza del lievito madre\, adattarlo alle diverse esigenze di produzione e gestirne la conservazione in modo ideale. L’obiettivo del corso è risolvere i dubbi operativi e perfezionare la gestione del lievito madre\, garantendo risultati costanti e di alta qualità in tutte le fasi della lavorazione. \nModalità: corso dimostrativo \nIl corso verrà attivato previo raggiungimento del numero minimo di partecipanti \nCosa è compreso nel corso: \n\nRicettario e dispensa del corso\nCoffee break\nLight lunch a buffet\n\nAl termine del corso verrà rilasciato l’attestato di partecipazione firmato dal docente. \nArticolazione Orari: \n\nAccoglienza ore 8:30\nInizio corso ore 9:00\nFine corso ore 17:00\n\n  \nFocus on: Pastry Chef Denis Dianin \nIl maestro Denis Dianin entra nell’Accademia Maestri Pasticceri Italiani (AMPI) e nel 2018 lancia “Invero”\, un brand dedicato ai prodotti in vasocottura. Oltre a dirigere la sua pasticceria\, è consulente per aziende del settore e docente in scuole di pasticceria in Italia e all’estero \n  \n \n  \n  \n  \n 
URL:https://www.hangar78.com/event/gestione-del-lievito-madre-ottimizzazione-e-tecniche/
LOCATION:hangar78\, Via Tagliamento 78\, Pianiga\, 30030\, Italia
CATEGORIES:amatoriale,pasticceria,professionale,ristorazione
ATTACH;FMTTYPE=image/jpeg:https://www.hangar78.com/wp-content/uploads/2025/03/LPS7160.jpg
END:VEVENT
BEGIN:VEVENT
DTSTART;TZID=Europe/Rome:20251020T090000
DTEND;TZID=Europe/Rome:20251021T170000
DTSTAMP:20260425T012054
CREATED:20250321T133637Z
LAST-MODIFIED:20251008T082759Z
UID:10000056-1760950800-1761066000@www.hangar78.com
SUMMARY:Pasticceria contemporanea
DESCRIPTION:L’evoluzione del gusto nella pasticceria contemporanea\nScopri\, esalta e combina i sapori: Un viaggio sensoriale tra ingredienti innovativi per creare monoporzioni e torte sorprendenti. \nIl docente\, Gian Luca Forino pasticciere e viaggiatore\, ci accompagnerà in un viaggio multisensoriale alla scoperta di profumi\, sapori e suggestioni declinabili in molteplici preparazioni. \nAttraverso un approccio che unisce analisi sensoriale e creatività pratica\, scoprirete come utilizzare spezie\, cioccolato\, oli essenziali e fiori per creare sapori sorprendenti. Imparerete a riconoscere le note aromatiche distintive di ogni ingrediente\, padroneggiare tecniche per esaltarne il gusto e realizzare abbinamenti inaspettati che arricchiscono le preparazioni dolci. \n  \nObbiettivo del corso è ampliare lo spettro di ingredienti a nostra disposizione\, conoscerli e saperli abbinare per sorprendere e soddisfare al meglio una clientela sempre più curiosa ed esigente. \nAl fine di rendere molto più efficace le potenzialità del tema\, verranno proposte 9 preparazioni tra torte\, monoporzioni\, e snack: \n  \n\n“Un caffè con Amanda”: ispirata alla Giordania\, una torta che cattura l’essenza di un caffè al cardamomo all’alba davanti alle rovine di Petra\, con note di olio d’oliva e frutta secca caramellata.\n“Madame Madò”: un tributo alle piantagioni di cacao del Madagascar\, dove si fondono armoniosamente sapori di cioccolato\, mango succoso\, litchi e oli essenziali aromatici.\n“Dolomitika”: un omaggio alle montagne italiane che evoca passeggiate nei boschi di abeti\, profumi balsamici\, fiori di sambuco e il comfort di uno strudel appena sfornato.\n\nPerfetto per professionisti che desiderano ampliare la propria offerta e soddisfare una clientela sempre più curiosa ed esigente\, questo corso vi darà gli strumenti per creare una pasticceria contemporanea\, multiculturale e ricca di storie da raccontare attraverso i vostri dolci. \nModalità: corso dimostrativo \nIl corso verrà attivato previo raggiungimento del numero minimo di partecipanti \nCosa è compreso nel corso: \n\nRicettario e dispensa del corso\nCoffee break\nLight lunch a buffet\nDegustazione finale dei prodotti realizzati\n\nAl termine del corso verrà rilasciato l’attestato di partecipazione firmato dal docente. \nArticolazione Orari: \n\nAccoglienza ore 8:30\nInizio corso ore 9:00\nFine corso ore 17:00\n\n  \nFocus on: Pastry Chef Gian Luca Forino \nGian Luca Forino\, consulente e formatore esperto in pasticceria\, cioccolateria e grandi lievitati\, vanta oltre 15 anni di esperienza. Attualmente è formatore e consulente per Valrhona Italia\, ed è membro della giuria dell’International Chocolate Awards dal 2018. \n 
URL:https://www.hangar78.com/event/levoluzione-del-gusto-nella-pasticceria-contemporanea/
LOCATION:hangar78\, Via Tagliamento 78\, Pianiga\, 30030\, Italia
CATEGORIES:pasticceria,professionale,ristorazione
ATTACH;FMTTYPE=image/jpeg:https://www.hangar78.com/wp-content/uploads/2025/03/36.452.87-2.jpg
END:VEVENT
BEGIN:VEVENT
DTSTART;TZID=Europe/Rome:20251027T090000
DTEND;TZID=Europe/Rome:20251029T170000
DTSTAMP:20260425T012054
CREATED:20250321T132714Z
LAST-MODIFIED:20251017T093059Z
UID:10000055-1761555600-1761757200@www.hangar78.com
SUMMARY:Viennoiserie dolce e salata
DESCRIPTION:Perfeziona impasti\, laminazione e lievitazione per prodotti di alta qualità\nIl corso si focalizza sulla creazione di prodotti dolci e salati replicabili\, moderni e accattivanti\, con una resa estetica superiore grazie a una buona alveolatura. Il programma include teoria e pratica su lievitazione\, laminazione\, cottura\, gestione degli impasti (metodo diretto e indiretto)\, bilanciamento delle materie prime e utilizzo delle paste acide. Si approfondiscono le tecniche per ottenere diverse alveolature\, l’aromatizzazione degli impasti salati\, la gestione della conservazione e la shelf life. Sono previste anche lezioni su farciture\, cottura\, creme\, glassatura e food cost\, con una degustazione finale e analisi dei prodotti. \nPROGRAMMA DEL CORSO: \nViennoiserie salata \nImpasto salato classico: \n\nCalzone arrotolato\nPapillon con verdure\nPain suisse salato\nPullover salato\n\nImpasto salato al pomodoro \n\nCornetto salato al pomodoro\nRed Garden\nmargherita\nCubo\n\nImpasto salato ricco: \n\nLa stria\nRochelle\nBrioche Parisienne salee\n\nViennoiserie dolce \nImpasto panna e burro: \n\nTarte tropezienne\nBuns cannella e cardamomo\nBuns lemon e poppy seeds\n\nImpasto francese \n\nCroissant moderno\nChocolatine classico\nChocolatine moderno\nCruffin moderno\nGolden pain suisse\nVertigo\n\nImpasto al cioccolato \n\nPan Bounty\nBi-Choc bicolore\nMaia\nChoco cubo\nMarge\n\n  \nModalità: corso dimostrativo \nIl corso verrà attivato previo raggiungimento del numero minimo di partecipanti \nCosa è compreso nel corso: \n\nRicettario e dispensa del corso\nCoffee break\nLight lunch a buffet\nDegustazione finale dei prodotti realizzati\n\nAl termine del corso verrà rilasciato l’attestato di partecipazione firmato dal docente. \nArticolazione Orari: \n\nAccoglienza ore 8:30\nInizio corso ore 9:00\nFine corso ore 17:00\n\nFocus on: Pastry Chef Omar Busi \nCon oltre quindici anni di esperienza\, Omar Busi è docente e consulente nel settore alimentare\, specializzandosi in cibo dolce e salato\, con un focus su salute e sostenibilità. Ha ottenuto numerosi riconoscimenti\, tra cui il primo posto al Trofeo Barry Callebaut. Dal 2017\, ha fondato una società di consulenza insieme a suo figlio Alessio\, per innovare nel settore e ottimizzare i processi produttivi.
URL:https://www.hangar78.com/event/viennoiserie-larte-della-sfoglia-dolce-e-salata/
LOCATION:hangar78\, Via Tagliamento 78\, Pianiga\, 30030\, Italia
CATEGORIES:pasticceria,professionale
ATTACH;FMTTYPE=image/jpeg:https://www.hangar78.com/wp-content/uploads/2025/03/New_York_Winter_high.jpg
END:VEVENT
END:VCALENDAR