BEGIN:VCALENDAR
VERSION:2.0
PRODID:-//Hangar78 - ECPv6.15.20//NONSGML v1.0//EN
CALSCALE:GREGORIAN
METHOD:PUBLISH
X-WR-CALNAME:Hangar78
X-ORIGINAL-URL:https://www.hangar78.com
X-WR-CALDESC:Eventi per Hangar78
REFRESH-INTERVAL;VALUE=DURATION:PT1H
X-Robots-Tag:noindex
X-PUBLISHED-TTL:PT1H
BEGIN:VTIMEZONE
TZID:Europe/Rome
BEGIN:DAYLIGHT
TZOFFSETFROM:+0100
TZOFFSETTO:+0200
TZNAME:CEST
DTSTART:20230326T010000
END:DAYLIGHT
BEGIN:STANDARD
TZOFFSETFROM:+0200
TZOFFSETTO:+0100
TZNAME:CET
DTSTART:20231029T010000
END:STANDARD
BEGIN:DAYLIGHT
TZOFFSETFROM:+0100
TZOFFSETTO:+0200
TZNAME:CEST
DTSTART:20240331T010000
END:DAYLIGHT
BEGIN:STANDARD
TZOFFSETFROM:+0200
TZOFFSETTO:+0100
TZNAME:CET
DTSTART:20241027T010000
END:STANDARD
BEGIN:DAYLIGHT
TZOFFSETFROM:+0100
TZOFFSETTO:+0200
TZNAME:CEST
DTSTART:20250330T010000
END:DAYLIGHT
BEGIN:STANDARD
TZOFFSETFROM:+0200
TZOFFSETTO:+0100
TZNAME:CET
DTSTART:20251026T010000
END:STANDARD
END:VTIMEZONE
BEGIN:VEVENT
DTSTART;TZID=Europe/Rome:20240924T080000
DTEND;TZID=Europe/Rome:20240924T170000
DTSTAMP:20260425T150223
CREATED:20240924T142808Z
LAST-MODIFIED:20240924T153221Z
UID:10000020-1727164800-1727197200@www.hangar78.com
SUMMARY:Corso di pasticceria creativa: diventa autore delle tue ricette
DESCRIPTION:Arte e scienza della bilanciatura di frolle e masse montate.\nDue giorni di corso insieme a Rita Busalacchi per imparare le basi della pasticceria\, partendo dalle frolle fino alle masse montate.\nNella prima parte del corso il focus sarà sulle frolle\, dallo studio degli ingredienti\, alla bilanciatura. Realizzando così crostate e biscotti. \nDalle frolle per biscotteria a quelle per fondi di crostate o torte moderne o dessert al piatto. Vedrete inoltre le frolle senza glutine\, frolle senza uova e frolle a base frutta.\nContinueremo con le masse montate\, studiando gli ingredienti e la bilanciatura di vari tipi di pan di spagna\, biscuit e cake. \nIn ultimo i cake\, le tecniche di bilanciatura e la realizzazione di vari tipi di cake a base uova ma anche vegan. \nModalità: corso pratico e teorico \n\nIl corso verrà attivato previo raggiungimento del numero minimo di partecipanti. \nOrari \n\nAccoglienza ore 8:30\nInizio corso ore 9:00\nFine corso ore 17:00\n\nCosa è compreso \n\nRicettario e dispensa del corso\nCoffee break\nLight lunch a buffet\nDegustazione a fine corso dei prodotti realizzati\n\n\n  \nNB: è richiesta la divisa da lavoro
URL:https://www.hangar78.com/event/corso-di-pasticceria-creativa-diventa-autore-delle-tue-ricette/
LOCATION:hangar78\, Via Tagliamento 78\, Pianiga\, 30030\, Italia
CATEGORIES:professionale
ATTACH;FMTTYPE=image/jpeg:https://www.hangar78.com/wp-content/uploads/2024/09/frolla_corso.jpg
END:VEVENT
END:VCALENDAR