BEGIN:VCALENDAR
VERSION:2.0
PRODID:-//Hangar78 - ECPv6.15.20//NONSGML v1.0//EN
CALSCALE:GREGORIAN
METHOD:PUBLISH
X-ORIGINAL-URL:https://www.hangar78.com
X-WR-CALDESC:Eventi per Hangar78
REFRESH-INTERVAL;VALUE=DURATION:PT1H
X-Robots-Tag:noindex
X-PUBLISHED-TTL:PT1H
BEGIN:VTIMEZONE
TZID:Europe/Rome
BEGIN:DAYLIGHT
TZOFFSETFROM:+0100
TZOFFSETTO:+0200
TZNAME:CEST
DTSTART:20240331T010000
END:DAYLIGHT
BEGIN:STANDARD
TZOFFSETFROM:+0200
TZOFFSETTO:+0100
TZNAME:CET
DTSTART:20241027T010000
END:STANDARD
BEGIN:DAYLIGHT
TZOFFSETFROM:+0100
TZOFFSETTO:+0200
TZNAME:CEST
DTSTART:20250330T010000
END:DAYLIGHT
BEGIN:STANDARD
TZOFFSETFROM:+0200
TZOFFSETTO:+0100
TZNAME:CET
DTSTART:20251026T010000
END:STANDARD
BEGIN:DAYLIGHT
TZOFFSETFROM:+0100
TZOFFSETTO:+0200
TZNAME:CEST
DTSTART:20260329T010000
END:DAYLIGHT
BEGIN:STANDARD
TZOFFSETFROM:+0200
TZOFFSETTO:+0100
TZNAME:CET
DTSTART:20261025T010000
END:STANDARD
END:VTIMEZONE
BEGIN:VEVENT
DTSTART;TZID=Europe/Rome:20250311T083000
DTEND;TZID=Europe/Rome:20250312T173000
DTSTAMP:20260425T160809
CREATED:20240924T143330Z
LAST-MODIFIED:20240924T143330Z
UID:10000021-1741681800-1741800600@www.hangar78.com
SUMMARY:Pasticceria vegana
DESCRIPTION:Dolci moderni senza ingredienti di origine animale\n  \nBarbara Giovanetti pasticcera di Julietta Pastry and Lab e di Romeow cat bistrot. Due giornate in cui sarete affascinati da questa nuova idea di pasticceria al passo con i tempi e in linea con le richieste di mercato.\nTante opzioni\, anche di ispirazione transalpina: macaron\, new york rolls\, maritozzi\, torte ( anche crudiste)\, monoporzioni\, biscotti\, mousse e tanto altro. \nModalità: corso teorico \n\nIl corso verrà attivato previo raggiungimento del numero minimo di partecipanti. \nCosa è compreso \n\nRicettario e dispensa del corso\nCoffee break\nLight lunch a buffet\nDegustazione a fine corso dei prodotti realizzati\n\nOrari \n\nAccoglienza ore 8:30\nInizio corso ore 9:00\nFine corso ore 17:00
URL:https://www.hangar78.com/event/pasticceria-vegana/
LOCATION:hangar78\, Via Tagliamento 78\, Pianiga\, 30030\, Italia
CATEGORIES:professionale
ATTACH;FMTTYPE=image/jpeg:https://www.hangar78.com/wp-content/uploads/2024/09/vegan.jpg
END:VEVENT
BEGIN:VEVENT
DTSTART;TZID=Europe/Rome:20250313T193000
DTEND;TZID=Europe/Rome:20250313T223000
DTSTAMP:20260425T160809
CREATED:20250217T115932Z
LAST-MODIFIED:20250217T120043Z
UID:10000031-1741894200-1741905000@www.hangar78.com
SUMMARY:Dall’Asia al Sudamerica
DESCRIPTION:Un viaggio culinario attraverso noodles\, tacos\, pollo al cocco e curry\nUn percorso guidato tra le cucine del mondo che con gusti\, odori e tecniche hanno influenzato la nostra cultura gastronomica. \nUn corso pratico\, della durata di tre ore\, per imparare a realizzare un menu goloso che ci porti in un viaggio virtuale dall’estremo Oriente fino all’America latina\, con la mente e con le papille. \nUn mix perfetto che renderà le tue serate con gli amici diverse dal solito! \n  \nCosa è compreso nel corso: \n\n\n\nRicettario e dispensa del corso\nDegustazione dei prodotti realizzati\n\nAl termine del corso verrà rilasciato l’attestato di partecipazione firmato dal docente. \n  \nOrari:\nAccoglienza ore 19.15\nInizio corso ore 19.30\nFine corso ore 22.30 \n\n  \n\n 
URL:https://www.hangar78.com/event/dallasia-al-sudamerica/
LOCATION:hangar78\, Via Tagliamento 78\, Pianiga\, 30030\, Italia
CATEGORIES:amatoriale
ATTACH;FMTTYPE=image/jpeg:https://www.hangar78.com/wp-content/uploads/2025/02/tacos.jpg
END:VEVENT
BEGIN:VEVENT
DTSTART;TZID=Europe/Rome:20250317T080000
DTEND;TZID=Europe/Rome:20250317T170000
DTSTAMP:20260425T160809
CREATED:20250317T112444Z
LAST-MODIFIED:20250325T084101Z
UID:10000038-1742198400-1742230800@www.hangar78.com
SUMMARY:Lainox on tour
DESCRIPTION:La banchettistica\n\nL’ ORGANIZZAZIONE NON È UN’OPINIONE: LA BANCHETTISTICA \nARGOMENTI TRATTATI \n\nCome utilizzare la tecnologia per preparare un banchetto\nLa pianificazione e la produzione\nLa gestione del servizio e la sua organizzazione\nCome ottimizzare il tempo mantenendo una alta qualità\nL’importanza del cook and chill\nCome abbattere un prodotto in maniera corretta\n\n\n\na chi è rivolto il corso?\nUn corso progettato per chef professionisti e aziende che hanno come obiettivo la qualità e l’organizzazione per i grandi numeri. Si andranno a vedere le tecniche\, la pianificazione\, l’importanza del Cook and Chill per avere una cucina sempre pronta ed organizzata in base alla tipologia di evento. \nCosa è compreso nel corso:\n\nRicettario\, penna e blocco degli appunti\nCoffee Break\nLight lunch a buffet\n\nAl termine del corso verrà rilasciato l’attestato di partecipazione firmato dal docente. \n  \nArticolazione Orari:\nAccoglienza alle ore 8.30 \nInizio corso alle ore 9.30 \nFine corso alle ore 17.00 \n  \n\n\n  Richiedi informazioni
URL:https://www.hangar78.com/event/lainox-on-tour/
LOCATION:hangar78\, Via Tagliamento 78\, Pianiga\, 30030\, Italia
CATEGORIES:ristorazione
ATTACH;FMTTYPE=image/jpeg:https://www.hangar78.com/wp-content/uploads/2025/03/finger_food.jpg
END:VEVENT
BEGIN:VEVENT
DTSTART;TZID=Europe/Rome:20250317T083000
DTEND;TZID=Europe/Rome:20250318T173000
DTSTAMP:20260425T160809
CREATED:20240924T144200Z
LAST-MODIFIED:20240924T144200Z
UID:10000022-1742200200-1742319000@www.hangar78.com
SUMMARY:Pasticceria salutistica
DESCRIPTION:Senza zucchero\, senza lattosio mantenendo l’eccellenza nel gusto e nella texture\nCorrado Carosi ci insegnerà come realizzare dolci senza zucchero\, senza glutine e senza lattosio senza rinunciare al gusto. Un focus speciale sulla parte teorica: Ingredientistica alternativa ( zuccheri\, fibre\, grassi\, farine alternative). \nConcetti base\, metodologia di lavoro e produzione in laboratorio. \nProgramma: \n\ncremosi senza uova/farina\nmignon senza farina\ncome usare zuccheri alternativi nei prodotti\nbignè senza glutine e lattosio\n\nModalità: corso dimostrativo \n\nIl corso verrà attivato previo raggiungimento del numero minimo di partecipanti. \nOrari \n\nAccoglienza ore 8:30\nInizio corso ore 9:00\nFine corso ore 17:00\n\n 
URL:https://www.hangar78.com/event/pasticceria-salutistica/
LOCATION:hangar78\, Via Tagliamento 78\, Pianiga\, 30030\, Italia
CATEGORIES:professionale
ATTACH;FMTTYPE=image/jpeg:https://www.hangar78.com/wp-content/uploads/2024/09/healy_pastry_corso.jpg
END:VEVENT
BEGIN:VEVENT
DTSTART;TZID=Europe/Rome:20250320T190000
DTEND;TZID=Europe/Rome:20250320T223000
DTSTAMP:20260425T160809
CREATED:20250317T143954Z
LAST-MODIFIED:20250317T143954Z
UID:10000040-1742497200-1742509800@www.hangar78.com
SUMMARY:Pizza e Pane
DESCRIPTION:Scopri le tecniche tradizionali per lievitati in casa\n\nPane e pizza sono due alimenti a cui gli italiani sono indissolubilmente legati\, per tradizione e per amore. \nResistere al profumo di entrambi è impossibile per chiunque! \nPur considerati alimenti “semplici”\, la loro preparazione richiede piccoli accorgimenti e tecniche precise per essere realizzati a regola d’arte. E la loro preparazione a casa mette da sempre in difficoltà anche gli “chef casalinghi” più esperti… \nIl corso ha come obiettivo l’approfondimento delle materie prime e la realizzazione di pane e pizza fatti in casa con gli abituali utensili e forni casalinghi e vedrà i corsisti partecipare attivamente alla realizzazione delle preparazioni con le proprie mani. \nArgomenti: \n\nfarine\nlievito di birra\naccenni sul lievito madre\npreparazione dell’impasto\nforme del pane\nstesura della pizza\ncotture\ncondimenti\n\nPreparazioni: \n\nPan brioche\nPizza tonda classica\nFocaccia alla genovese\n\n\n  \n\na chi è rivolto il corso?\nIl corso è rivolto agli amanti dell’arte bianca \nCosa è compreso nel corso:\n\nRicettario e dispensa del corso\nDegustazione dei prodotti realizzati\n\nAl termine del corso verrà rilasciato l’attestato di partecipazione firmato dal docente. \n\nOrari:\nAccoglienza ore 19.15 \nInizio corso ore 19.30 \nFine corso ore 22.30
URL:https://www.hangar78.com/event/pizza-e-pane-2/
LOCATION:hangar78\, Via Tagliamento 78\, Pianiga\, 30030\, Italia
CATEGORIES:amatoriale
ATTACH;FMTTYPE=image/jpeg:https://www.hangar78.com/wp-content/uploads/2025/03/7.jpg
END:VEVENT
BEGIN:VEVENT
DTSTART;TZID=Europe/Rome:20250320T193000
DTEND;TZID=Europe/Rome:20250320T223000
DTSTAMP:20260425T160809
CREATED:20250217T145717Z
LAST-MODIFIED:20250217T145948Z
UID:10000032-1742499000-1742509800@www.hangar78.com
SUMMARY:Pizza e Pane
DESCRIPTION:Scopri le tecniche tradizionali per lievitati in casa\n\nPane e pizza sono due alimenti a cui gli italiani sono indissolubilmente legati\, per tradizione e per amore. \nResistere al profumo di entrambi è impossibile per chiunque! \nPur considerati alimenti “semplici”\, la loro preparazione richiede piccoli accorgimenti e tecniche precise per essere realizzati a regola d’arte. E la loro preparazione a casa mette da sempre in difficoltà anche gli “chef casalinghi” più esperti… \nIl corso ha come obiettivo l’approfondimento delle materie prime e la realizzazione di pane e pizza fatti in casa con gli abituali utensili e forni casalinghi e vedrà i corsisti partecipare attivamente alla realizzazione delle preparazioni con le proprie mani. \nArgomenti: \n\nfarine\nlievito di birra\naccenni sul lievito madre\npreparazione dell’impasto\nforme del pane\nstesura della pizza\ncotture\ncondimenti\n\nPreparazioni: \n\nPan brioche\nPizza tonda classica\nFocaccia alla genovese\n\n\nA chi è rivolto il corso? \n\n\nIl corso è rivolto agli amanti dell’arte bianca \nCosa è compreso nel corso:\n\nRicettario e dispensa del corso\nDegustazione dei prodotti realizzati\n\nAl termine del corso verrà rilasciato l’attestato di partecipazione firmato dal docente. \n  \nArticolazione Orari:\nAccoglienza ore 19.15\nInizio corso ore 19.30\nFine corso ore 22.30 \n\n  \n\n 
URL:https://www.hangar78.com/event/pizza-e-pane/
LOCATION:hangar78\, Via Tagliamento 78\, Pianiga\, 30030\, Italia
CATEGORIES:amatoriale
ATTACH;FMTTYPE=image/jpeg:https://www.hangar78.com/wp-content/uploads/2025/02/focaccia.jpg
END:VEVENT
BEGIN:VEVENT
DTSTART;TZID=Europe/Rome:20250324T083000
DTEND;TZID=Europe/Rome:20250325T173000
DTSTAMP:20260425T160809
CREATED:20240924T150037Z
LAST-MODIFIED:20240924T150044Z
UID:10000023-1742805000-1742923800@www.hangar78.com
SUMMARY:La prima colazione dolce e salata tra tradizione e innovazione
DESCRIPTION:Tecniche di produzione\, gestione\, mantenimento e presentazione prodotto\nIl Maestro Ampi Armando Palmieri ci guiderà nel corso Lievitati da colazione\, con un approfondimento sugli impasti base e un focus speciale riservato ai prodotti innovativi con creazioni che andranno dai classici croissant e pain au chocolat\, passando dal cornetto\, al croissant cubico\, New York rolls\, papillon e altre specialità di tendenza. \nUn focus sugli impasti di base\, gestione\, produzione razionale e stoccaggio dei prodotti. Come comporre una linea al banco da vetrina e ottimizzare il non venduto\, il waste. \nTecniche di impasto con utilizzo di differenti tipologie di lievitazioni\, bilanciamento ricette e proposte innovative di successo. \nModalità: corso dimostrativo \n\nIl corso verrà attivato previo raggiungimento del numero minimo di partecipanti. \nCosa è compreso \n\nRicettario e dispensa del corso\nCoffee break\nLight lunch a buffet\nDegustazione finale dei prodotti realizzati\n\nOrari \n\n\nAccoglienza ore 8:30\nInizio corso ore 9:00\nFine corso ore 17:00
URL:https://www.hangar78.com/event/la-prima-colazione-dolce-e-salata-tra-tradizione-e-innovazione/
LOCATION:hangar78\, Via Tagliamento 78\, Pianiga\, 30030\, Italia
CATEGORIES:professionale
ATTACH;FMTTYPE=image/jpeg:https://www.hangar78.com/wp-content/uploads/2024/09/colazione_corso.jpg
END:VEVENT
END:VCALENDAR