BEGIN:VCALENDAR
VERSION:2.0
PRODID:-//Hangar78 - ECPv6.15.20//NONSGML v1.0//EN
CALSCALE:GREGORIAN
METHOD:PUBLISH
X-ORIGINAL-URL:https://www.hangar78.com
X-WR-CALDESC:Eventi per Hangar78
REFRESH-INTERVAL;VALUE=DURATION:PT1H
X-Robots-Tag:noindex
X-PUBLISHED-TTL:PT1H
BEGIN:VTIMEZONE
TZID:Europe/Rome
BEGIN:DAYLIGHT
TZOFFSETFROM:+0100
TZOFFSETTO:+0200
TZNAME:CEST
DTSTART:20240331T010000
END:DAYLIGHT
BEGIN:STANDARD
TZOFFSETFROM:+0200
TZOFFSETTO:+0100
TZNAME:CET
DTSTART:20241027T010000
END:STANDARD
BEGIN:DAYLIGHT
TZOFFSETFROM:+0100
TZOFFSETTO:+0200
TZNAME:CEST
DTSTART:20250330T010000
END:DAYLIGHT
BEGIN:STANDARD
TZOFFSETFROM:+0200
TZOFFSETTO:+0100
TZNAME:CET
DTSTART:20251026T010000
END:STANDARD
BEGIN:DAYLIGHT
TZOFFSETFROM:+0100
TZOFFSETTO:+0200
TZNAME:CEST
DTSTART:20260329T010000
END:DAYLIGHT
BEGIN:STANDARD
TZOFFSETFROM:+0200
TZOFFSETTO:+0100
TZNAME:CET
DTSTART:20261025T010000
END:STANDARD
END:VTIMEZONE
BEGIN:VEVENT
DTSTART;TZID=Europe/Rome:20250916T140000
DTEND;TZID=Europe/Rome:20250916T150000
DTSTAMP:20260425T061800
CREATED:20250414T100951Z
LAST-MODIFIED:20250909T095447Z
UID:10000078-1758031200-1758034800@www.hangar78.com
SUMMARY:Demo prodotti alimentari Silikomart: i78
DESCRIPTION:Unisciti alla nostra demo esclusiva e scopri le potenzialità dei prodotti alimentari I78 by Silikomart. Durante questa sessione pratica\, approfondiremo l’uso dei coloranti in polvere idrosolubili e liposolubili\, spiegando la differenza tra i due e come utilizzarli al meglio per ottenere risultati impeccabili. Imparerai anche i segreti per creare un effetto velluto perfetto\, oltre alle temperature ideali e alle modalità per ottenere la glassa perfetta per i tuoi dolci. \nQuesta demo si concentrerà sulle tecniche e sugli strumenti professionali per ottenere risultati di alta qualità\, senza entrare nel dettaglio delle ricette. \nIl tuo biglietto vale doppio!\nPartecipa alla demo e ricevi un cashback pari al costo del corso\, da spendere in stampi Silikomart direttamente nello showroom all’interno della nostra scuola di cucina.
URL:https://www.hangar78.com/event/demo-stampi-silikomart-i78/
CATEGORIES:Demo
ATTACH;FMTTYPE=image/jpeg:https://www.hangar78.com/wp-content/uploads/2025/04/limoni.jpg
END:VEVENT
BEGIN:VEVENT
DTSTART;TZID=Europe/Rome:20250917T100000
DTEND;TZID=Europe/Rome:20250917T160000
DTSTAMP:20260425T061800
CREATED:20250725T075834Z
LAST-MODIFIED:20250827T074706Z
UID:10000080-1758103200-1758124800@www.hangar78.com
SUMMARY:Non solo biscotti
DESCRIPTION:Lainox on tour Alta formazione con Simone Giavi \nAlla scoperta di tecniche e prodotti al servizio della pasticceria \nUn corso creato con l’obiettivo di imparare le tecniche\, i trucchi ma soprattutto come organizzare il proprio laboratorio per ottimizzare i vari cicli di produzione. Il pasticcere avrà la possibilità di vedere ricette di differente difficoltà e comprendere passo a passo la loro realizzazione e la loro gestione. \nARGOMENTI TRATTATI \n\nI lievitati da colazione\nLa lievitazione e le sue impostazioni\nGli impasti e come gestirli\nLe frolle\nLe torte\nPerché è importante l’abbattimento\nAlla scoperta delle monoporzioni\nI prodotti vegani\nCome ottimizzare il tempo per i vari cicli di produzione\n\n  \nPrezzo del corso € 100.00 + iva \nAi partecipanti verrà rilasciato un attestato di partecipazione \nIn omaggio: \n\nun grembiule da lavoro con Logo LAINOX\nMateriale didattico e ricette tutte incluse sulla piattaforma NABOOK\n\nSconto del 10% per l’iscrizione al corso del 6 Novembre legato alla Panificazione \nPer info e iscrizioni: \nDaniel.Donolato@lainox.com \ncristianreduce@fortecnoservice.net \ninfo@hangar78.com
URL:https://www.hangar78.com/event/lainox-on-tour-alta-formazione-non-solo-biscotti-la-pasticceria-e-i-suoi-segreti/
CATEGORIES:Demo
ATTACH;FMTTYPE=image/jpeg:https://www.hangar78.com/wp-content/uploads/2025/07/25.401.99.0065_KIT_KLASSIK_580_EXTRA.jpg
END:VEVENT
BEGIN:VEVENT
DTSTART;TZID=Europe/Rome:20250929T090000
DTEND;TZID=Europe/Rome:20250930T173000
DTSTAMP:20260425T061800
CREATED:20250321T102855Z
LAST-MODIFIED:20250923T114232Z
UID:10000047-1759136400-1759253400@www.hangar78.com
SUMMARY:Grandi lievitati d'autore
DESCRIPTION:Impara l’arte dei lievitati natalizi e non solo\nPartecipa al corso I Grandi Lievitati d’Autore con Andrea Tortora\, uno dei maestri più prestigiosi della pasticceria italiana. Questo corso avanzato è pensato per professionisti del settore che desiderano perfezionare le tecniche nella creazione di lievitati di alta qualità\, con un focus sui grandi lievitati natalizi come panettone e pandoro. Scopri i segreti della lievitazione\, la gestione dei tempi e la preparazione di impasti complessi\, mentre impari a trasformare ingredienti selezionati in creazioni leggere\, gustose e perfette dal punto di vista estetico. Non perdere l’opportunità di fare un salto di qualità nella tua carriera e perfezionare la tua arte nella pasticceria. \nPANETTONE TRADIZIONALE GLASSATO\nPANETTONE MILANO\nPANETTONE AL CIOCCOLATO\nCOLOMBA\nPANFRUTTO\nBAULETTO VERSATILE\nPANETTONE ESTIVO\nPANDORO \n  \nModalità: corso dimostrativo \n\nIl corso verrà attivato previo raggiungimento del numero minimo di partecipanti. \nCosa è compreso nel corso:\n\nRicettario e dispensa del corso\nCoffee break\nLight lunch a buffet\nDegustazione finale dei prodotti realizzati\n\nAl termine del corso verrà rilasciato l’attestato di partecipazione firmato dal docente. \nArticolazione Orari:\n\nAccoglienza ore 8:30\nInizio corso ore 9:00\nFine corso ore 17:30\n\n\nFocus on: Pastry Chef Andrea Tortora\nAndrea Tortora con esperienza internazionale e terza Stella Michelin al St. Hubertus\, è fondatore di AT Patissier e specializzato in lievitati d’autore.
URL:https://www.hangar78.com/event/lievito-madre-e-lievitati-deccellenza-la-tecnica-al-servizio-del-laboratorio/
LOCATION:hangar78\, Via Tagliamento 78\, Pianiga\, 30030\, Italia
CATEGORIES:pasticceria,professionale,ristorazione
ATTACH;FMTTYPE=image/jpeg:https://www.hangar78.com/wp-content/uploads/2025/03/94A9727-1.jpg
END:VEVENT
END:VCALENDAR