BEGIN:VCALENDAR
VERSION:2.0
PRODID:-//Hangar78 - ECPv6.15.20//NONSGML v1.0//EN
CALSCALE:GREGORIAN
METHOD:PUBLISH
X-ORIGINAL-URL:https://www.hangar78.com
X-WR-CALDESC:Eventi per Hangar78
REFRESH-INTERVAL;VALUE=DURATION:PT1H
X-Robots-Tag:noindex
X-PUBLISHED-TTL:PT1H
BEGIN:VTIMEZONE
TZID:Europe/Rome
BEGIN:DAYLIGHT
TZOFFSETFROM:+0100
TZOFFSETTO:+0200
TZNAME:CEST
DTSTART:20230326T010000
END:DAYLIGHT
BEGIN:STANDARD
TZOFFSETFROM:+0200
TZOFFSETTO:+0100
TZNAME:CET
DTSTART:20231029T010000
END:STANDARD
BEGIN:DAYLIGHT
TZOFFSETFROM:+0100
TZOFFSETTO:+0200
TZNAME:CEST
DTSTART:20240331T010000
END:DAYLIGHT
BEGIN:STANDARD
TZOFFSETFROM:+0200
TZOFFSETTO:+0100
TZNAME:CET
DTSTART:20241027T010000
END:STANDARD
BEGIN:DAYLIGHT
TZOFFSETFROM:+0100
TZOFFSETTO:+0200
TZNAME:CEST
DTSTART:20250330T010000
END:DAYLIGHT
BEGIN:STANDARD
TZOFFSETFROM:+0200
TZOFFSETTO:+0100
TZNAME:CET
DTSTART:20251026T010000
END:STANDARD
END:VTIMEZONE
BEGIN:VEVENT
DTSTART;TZID=Europe/Rome:20241014T083000
DTEND;TZID=Europe/Rome:20241015T173000
DTSTAMP:20260426T025558
CREATED:20240927T091426Z
LAST-MODIFIED:20250801T072756Z
UID:10000028-1728894600-1729013400@www.hangar78.com
SUMMARY:Le monoporzioni moderne e le glasse
DESCRIPTION:Durante il corso dimostrativo ci concentreremo sulla creazione di monoporzioni e torte moderne\, esplorando in dettaglio le varie fasi coinvolte. Approfondiremo le fondamenta della progettazione di torte moderne\, comprendendo gli elementi essenziali che le compongono\, come inserti\, biscuit e fondi. Inoltre\, esamineremo approfonditamente le glasse\, analizzando diverse tipologie e illustrando le relative applicazioni. Attraverso questa esperienza\, i partecipanti avranno l’opportunità di acquisire conoscenze pratiche e tecniche per creare torte innovative e deliziose\, arricchendo così il loro repertorio culinario. \nOrari \nAccoglienza ore 8.30\nInizio corso ore 9.00\nFine corso ore 17.00 \nFocus on: Pastry Chef Alessandro Tiscione  \nAlessandro Tiscione è docente nelle principali scuole di pasticceria e collabora con aziende del settore come consulente e dimostratore\, sia in Italia che all’estero. \n  \n \n  \n 
URL:https://www.hangar78.com/event/le-monoporzioni-moderne-e-le-glasse/
LOCATION:hangar78\, Via Tagliamento 78\, Pianiga\, 30030\, Italia
CATEGORIES:professionale
ATTACH;FMTTYPE=image/jpeg:https://www.hangar78.com/wp-content/uploads/2024/09/corso_monoporzioni.jpg
END:VEVENT
END:VCALENDAR