BEGIN:VCALENDAR
VERSION:2.0
PRODID:-//Hangar78 - ECPv6.15.20//NONSGML v1.0//EN
CALSCALE:GREGORIAN
METHOD:PUBLISH
X-ORIGINAL-URL:https://www.hangar78.com
X-WR-CALDESC:Eventi per Hangar78
REFRESH-INTERVAL;VALUE=DURATION:PT1H
X-Robots-Tag:noindex
X-PUBLISHED-TTL:PT1H
BEGIN:VTIMEZONE
TZID:Europe/Rome
BEGIN:DAYLIGHT
TZOFFSETFROM:+0100
TZOFFSETTO:+0200
TZNAME:CEST
DTSTART:20240331T010000
END:DAYLIGHT
BEGIN:STANDARD
TZOFFSETFROM:+0200
TZOFFSETTO:+0100
TZNAME:CET
DTSTART:20241027T010000
END:STANDARD
BEGIN:DAYLIGHT
TZOFFSETFROM:+0100
TZOFFSETTO:+0200
TZNAME:CEST
DTSTART:20250330T010000
END:DAYLIGHT
BEGIN:STANDARD
TZOFFSETFROM:+0200
TZOFFSETTO:+0100
TZNAME:CET
DTSTART:20251026T010000
END:STANDARD
BEGIN:DAYLIGHT
TZOFFSETFROM:+0100
TZOFFSETTO:+0200
TZNAME:CEST
DTSTART:20260329T010000
END:DAYLIGHT
BEGIN:STANDARD
TZOFFSETFROM:+0200
TZOFFSETTO:+0100
TZNAME:CET
DTSTART:20261025T010000
END:STANDARD
END:VTIMEZONE
BEGIN:VEVENT
DTSTART;TZID=Europe/Rome:20250203T083000
DTEND;TZID=Europe/Rome:20250204T170000
DTSTAMP:20260426T011341
CREATED:20240923T141144Z
LAST-MODIFIED:20240923T141144Z
UID:10000016-1738571400-1738688400@www.hangar78.com
SUMMARY:A scuola di mignon dal campione del mondo.
DESCRIPTION:Creazione\, conservazione\, confezionamento e degustazione\nIl Pastry Chef Alessandro Dalmasso\, capitano della squadra vincitrice della medaglia d’oro alla Coupe du Monde de la Pâtisserie 2021 condividerà con i partecipanti la sua esperienza trentennale sulla piccola pasticceria basandosi sul suo libro “La Grande Piccola Pasticceria”\, fornito ai partecipanti con l’iscrizione al corso. \nDurante la prima giornata realizzerà la pasta bignè con il metodo Dalmasso\, le bignole innovative e quelle salate\, facendo un focus sulla suddivisione delle varie tipologie di mignon. \nLa seconda giornata\, invece\, si concentrerà sulla frolla tricolore\, sulle bavaresi\, sulle decorazioni con la pasta bignè e sulle meringhette. Il corso terminerà con un focus sulle tematiche di conservazione\, confezionamento e degustazione. \nModalità: corso dimostrativo. \nIl corso verrà attivato previo raggiungimento del numero minimo di partecipanti. \nIl corso è rivolto a professionisti nel settore della pasticceria\, gelateria e ristorazione che vogliono acquisire conoscenze e tecniche in merito all’argomento della pasticceria mignon. \nCosa è compreso \n\nLibro dello Chef  “La grande piccola pasticceria”\nPenna e blocco per gli appunti\nCoffee break\nLight lunch a buffet\nDegustazione alla fine del corso dei prodotti realizzati
URL:https://www.hangar78.com/event/a-scuola-di-mignon-dal-campione-del-mondo/
LOCATION:hangar78\, Via Tagliamento 78\, Pianiga\, 30030\, Italia
CATEGORIES:professionale
ATTACH;FMTTYPE=image/jpeg:https://www.hangar78.com/wp-content/uploads/2024/09/corso_mignon.jpg
END:VEVENT
END:VCALENDAR