BEGIN:VCALENDAR
VERSION:2.0
PRODID:-//Hangar78 - ECPv6.15.20//NONSGML v1.0//EN
CALSCALE:GREGORIAN
METHOD:PUBLISH
X-WR-CALNAME:Hangar78
X-ORIGINAL-URL:https://www.hangar78.com
X-WR-CALDESC:Eventi per Hangar78
REFRESH-INTERVAL;VALUE=DURATION:PT1H
X-Robots-Tag:noindex
X-PUBLISHED-TTL:PT1H
BEGIN:VTIMEZONE
TZID:Europe/Rome
BEGIN:DAYLIGHT
TZOFFSETFROM:+0100
TZOFFSETTO:+0200
TZNAME:CEST
DTSTART:20240331T010000
END:DAYLIGHT
BEGIN:STANDARD
TZOFFSETFROM:+0200
TZOFFSETTO:+0100
TZNAME:CET
DTSTART:20241027T010000
END:STANDARD
BEGIN:DAYLIGHT
TZOFFSETFROM:+0100
TZOFFSETTO:+0200
TZNAME:CEST
DTSTART:20250330T010000
END:DAYLIGHT
BEGIN:STANDARD
TZOFFSETFROM:+0200
TZOFFSETTO:+0100
TZNAME:CET
DTSTART:20251026T010000
END:STANDARD
BEGIN:DAYLIGHT
TZOFFSETFROM:+0100
TZOFFSETTO:+0200
TZNAME:CEST
DTSTART:20260329T010000
END:DAYLIGHT
BEGIN:STANDARD
TZOFFSETFROM:+0200
TZOFFSETTO:+0100
TZNAME:CET
DTSTART:20261025T010000
END:STANDARD
END:VTIMEZONE
BEGIN:VEVENT
DTSTART;TZID=Europe/Rome:20250217T080000
DTEND;TZID=Europe/Rome:20250217T170000
DTSTAMP:20260425T190613
CREATED:20250217T153030Z
LAST-MODIFIED:20250219T140917Z
UID:10000033-1739779200-1739811600@www.hangar78.com
SUMMARY:Il picnic
DESCRIPTION:Deliziosi piatti veloci per la tua giornata all’aria aperta\n\nÈ l’evoluzione raffinata della scampagnata del fine settimana. Quella che prima era una soluzione comoda e low cost per passare una giornata all’aria aperta oggi è diventata un’occasione per fare nuove esperienze di gusto e di vacanza.\nEcco alcune proposte per un pic-nic elegante e a volte stravagante. \nRicette: \n\nTorta salata con rosa di verdure\nPolpettine di ceci e zucchine con salsa tzatziki\nSandwich integrale\, pastrami e senape in grani\n\n\n\nCosa è compreso nel corso:\n\nRicettario e dispensa del corso\nDegustazione dei prodotti realizzati\n\nAl termine del corso verrà rilasciato l’attestato di partecipazione firmato dal docente. \n  \nArticolazione Orari:\nAccoglienza ore 19.15\nInizio corso ore 19.30\nFine corso ore 22.30
URL:https://www.hangar78.com/event/il-picnic/
LOCATION:hangar78\, Via Tagliamento 78\, Pianiga\, 30030\, Italia
ATTACH;FMTTYPE=image/jpeg:https://www.hangar78.com/wp-content/uploads/2025/02/pexels-alohaphotostudio-13689827-scaled.jpg
END:VEVENT
BEGIN:VEVENT
DTSTART;TZID=Europe/Rome:20250218T083000
DTEND;TZID=Europe/Rome:20250220T180000
DTSTAMP:20260425T190613
CREATED:20240924T102855Z
LAST-MODIFIED:20250218T163207Z
UID:10000018-1739867400-1740074400@www.hangar78.com
SUMMARY:Prodotti da forno\, lievitati e colombe
DESCRIPTION:Segreti e tecniche del lievito madre nella tradizione italiana\nDurante queste 3 giornate con il Campione del Mondo Fabrizio Donatone approfondirete il tema del lievito madre\, dalla produzione al mantenimento per arrivare all’uso vero e proprio. Apprenderete segreti e tecniche della lievitazione e tutti i passaggi per la realizzazione della Colomba\, il dolce tradizionale della Pasqua. Il rispetto dei giusti tempi e delle temperature di lievitazione\, la comprensione dei passaggi e degli strumenti corretti alla realizzazione del grande lievitato da ricorrenza\, produzione e stoccaggio e food cost. \nModalità: corso pratico e teorico \n\nIl corso verrà attivato previo raggiungimento del numero minimo di partecipanti. \nCosa imparerai\n \n\nGestione del lievito madre\nSpiegazione dei diversi sistemi di lavorazione\nPreparazione del lievito madre per gli impasti\nColomba classica\nColomba gianduja\nCornetti all’italiana\nBrioche lievitazione mista\nCroissant bicolore a lievitazione mista\nImpasto croissant al cioccolato\ncreme e farcitur\n\nOrari \n\n\nAccoglienza ore 8:30\nIl primo giorno il corso inizierà alle ore 9\nGli orari di inizio corso e fine corso (secondo e terzo giorno) verranno comunicati dal docente durante le giornate.\n\nCosa è compreso \n\nRicettario e dispensa del corso\nCoffee break\nLight lunch a buffet\nDegustazione a fine corso dei prodotti realizzati\n\nNB: è richiesta la divisa da lavoro. \n 
URL:https://www.hangar78.com/event/prodotti-da-forno-lievitati-e-colombe-pasquali/
LOCATION:hangar78\, Via Tagliamento 78\, Pianiga\, 30030\, Italia
CATEGORIES:professionale
ATTACH;FMTTYPE=image/jpeg:https://www.hangar78.com/wp-content/uploads/2024/09/corso_donatone.jpg
END:VEVENT
BEGIN:VEVENT
DTSTART;TZID=Europe/Rome:20250219T080000
DTEND;TZID=Europe/Rome:20250219T170000
DTSTAMP:20260425T190613
CREATED:20250219T141526Z
LAST-MODIFIED:20250219T141526Z
UID:10000037-1739952000-1739984400@www.hangar78.com
SUMMARY:Cena estiva con gli amici
DESCRIPTION:Ricette fresche e leggere per serate da ricordare\n\nImmagina… l’estate è alle porte\, le giornate si allungano e la voglia di condividere momenti conviviali con i tuoi amici cresce. Ma cosa preparare per una cena che sappia di sole\, di profumi mediterranei e di leggerezza? \nHangar78 apre le sue porte per un’esperienza culinaria indimenticabile: il corso “Cena estiva con gli amici”. Un viaggio attraverso i colori e i sapori di questa stagione unica\, guidati dall’esperto Team Hangar78. \nUn’avventura di gusto in tre capitoli: \n\n\nI: Panzanella a modo mio. Scopri come reinterpretare un classico della cucina italiana\, esaltandone la freschezza e la genuinità con un tocco personale. \n\n\nII: Friselle fresche e colorate. Lasciati ispirare dalla creatività per creare friselle che siano un piacere per gli occhi e per il palato\, un trionfo di colori e sapori mediterranei. \n\n\nIII: Pomodori ripieni. Impara a preparare dei piccoli gioielli gastronomici\, scrigni di gusto che racchiudono l’estate. \n\n\nCosa è compreso nel corso: \n\n\n\nRicettario e dispensa del corso\nDegustazione dei prodotti realizzati\n\nAl termine del corso verrà rilasciato l’attestato di partecipazione firmato dal docente. \n  \nArticolazione Orari:\nAccoglienza ore 19.15\nInizio corso ore 19.30\nFine corso ore 22.30
URL:https://www.hangar78.com/event/cena-estiva-con-gli-amici/
LOCATION:hangar78\, Via Tagliamento 78\, Pianiga\, 30030\, Italia
CATEGORIES:amatoriale
ATTACH;FMTTYPE=image/jpeg:https://www.hangar78.com/wp-content/uploads/2025/02/panzanella.jpg
END:VEVENT
END:VCALENDAR