BEGIN:VCALENDAR
VERSION:2.0
PRODID:-//Hangar78 - ECPv6.15.20//NONSGML v1.0//EN
CALSCALE:GREGORIAN
METHOD:PUBLISH
X-ORIGINAL-URL:https://www.hangar78.com
X-WR-CALDESC:Eventi per Hangar78
REFRESH-INTERVAL;VALUE=DURATION:PT1H
X-Robots-Tag:noindex
X-PUBLISHED-TTL:PT1H
BEGIN:VTIMEZONE
TZID:Europe/Rome
BEGIN:DAYLIGHT
TZOFFSETFROM:+0100
TZOFFSETTO:+0200
TZNAME:CEST
DTSTART:20240331T010000
END:DAYLIGHT
BEGIN:STANDARD
TZOFFSETFROM:+0200
TZOFFSETTO:+0100
TZNAME:CET
DTSTART:20241027T010000
END:STANDARD
BEGIN:DAYLIGHT
TZOFFSETFROM:+0100
TZOFFSETTO:+0200
TZNAME:CEST
DTSTART:20250330T010000
END:DAYLIGHT
BEGIN:STANDARD
TZOFFSETFROM:+0200
TZOFFSETTO:+0100
TZNAME:CET
DTSTART:20251026T010000
END:STANDARD
BEGIN:DAYLIGHT
TZOFFSETFROM:+0100
TZOFFSETTO:+0200
TZNAME:CEST
DTSTART:20260329T010000
END:DAYLIGHT
BEGIN:STANDARD
TZOFFSETFROM:+0200
TZOFFSETTO:+0100
TZNAME:CET
DTSTART:20261025T010000
END:STANDARD
END:VTIMEZONE
BEGIN:VEVENT
DTSTART;TZID=Europe/Rome:20250311T083000
DTEND;TZID=Europe/Rome:20250312T173000
DTSTAMP:20260425T221605
CREATED:20240924T143330Z
LAST-MODIFIED:20240924T143330Z
UID:10000021-1741681800-1741800600@www.hangar78.com
SUMMARY:Pasticceria vegana
DESCRIPTION:Dolci moderni senza ingredienti di origine animale\n  \nBarbara Giovanetti pasticcera di Julietta Pastry and Lab e di Romeow cat bistrot. Due giornate in cui sarete affascinati da questa nuova idea di pasticceria al passo con i tempi e in linea con le richieste di mercato.\nTante opzioni\, anche di ispirazione transalpina: macaron\, new york rolls\, maritozzi\, torte ( anche crudiste)\, monoporzioni\, biscotti\, mousse e tanto altro. \nModalità: corso teorico \n\nIl corso verrà attivato previo raggiungimento del numero minimo di partecipanti. \nCosa è compreso \n\nRicettario e dispensa del corso\nCoffee break\nLight lunch a buffet\nDegustazione a fine corso dei prodotti realizzati\n\nOrari \n\nAccoglienza ore 8:30\nInizio corso ore 9:00\nFine corso ore 17:00
URL:https://www.hangar78.com/event/pasticceria-vegana/
LOCATION:hangar78\, Via Tagliamento 78\, Pianiga\, 30030\, Italia
CATEGORIES:professionale
ATTACH;FMTTYPE=image/jpeg:https://www.hangar78.com/wp-content/uploads/2024/09/vegan.jpg
END:VEVENT
BEGIN:VEVENT
DTSTART;TZID=Europe/Rome:20250313T193000
DTEND;TZID=Europe/Rome:20250313T223000
DTSTAMP:20260425T221605
CREATED:20250217T115932Z
LAST-MODIFIED:20250217T120043Z
UID:10000031-1741894200-1741905000@www.hangar78.com
SUMMARY:Dall’Asia al Sudamerica
DESCRIPTION:Un viaggio culinario attraverso noodles\, tacos\, pollo al cocco e curry\nUn percorso guidato tra le cucine del mondo che con gusti\, odori e tecniche hanno influenzato la nostra cultura gastronomica. \nUn corso pratico\, della durata di tre ore\, per imparare a realizzare un menu goloso che ci porti in un viaggio virtuale dall’estremo Oriente fino all’America latina\, con la mente e con le papille. \nUn mix perfetto che renderà le tue serate con gli amici diverse dal solito! \n  \nCosa è compreso nel corso: \n\n\n\nRicettario e dispensa del corso\nDegustazione dei prodotti realizzati\n\nAl termine del corso verrà rilasciato l’attestato di partecipazione firmato dal docente. \n  \nOrari:\nAccoglienza ore 19.15\nInizio corso ore 19.30\nFine corso ore 22.30 \n\n  \n\n 
URL:https://www.hangar78.com/event/dallasia-al-sudamerica/
LOCATION:hangar78\, Via Tagliamento 78\, Pianiga\, 30030\, Italia
CATEGORIES:amatoriale
ATTACH;FMTTYPE=image/jpeg:https://www.hangar78.com/wp-content/uploads/2025/02/tacos.jpg
END:VEVENT
END:VCALENDAR