BEGIN:VCALENDAR
VERSION:2.0
PRODID:-//Hangar78 - ECPv6.15.20//NONSGML v1.0//EN
CALSCALE:GREGORIAN
METHOD:PUBLISH
X-WR-CALNAME:Hangar78
X-ORIGINAL-URL:https://www.hangar78.com
X-WR-CALDESC:Eventi per Hangar78
REFRESH-INTERVAL;VALUE=DURATION:PT1H
X-Robots-Tag:noindex
X-PUBLISHED-TTL:PT1H
BEGIN:VTIMEZONE
TZID:Europe/Rome
BEGIN:DAYLIGHT
TZOFFSETFROM:+0100
TZOFFSETTO:+0200
TZNAME:CEST
DTSTART:20240331T010000
END:DAYLIGHT
BEGIN:STANDARD
TZOFFSETFROM:+0200
TZOFFSETTO:+0100
TZNAME:CET
DTSTART:20241027T010000
END:STANDARD
BEGIN:DAYLIGHT
TZOFFSETFROM:+0100
TZOFFSETTO:+0200
TZNAME:CEST
DTSTART:20250330T010000
END:DAYLIGHT
BEGIN:STANDARD
TZOFFSETFROM:+0200
TZOFFSETTO:+0100
TZNAME:CET
DTSTART:20251026T010000
END:STANDARD
BEGIN:DAYLIGHT
TZOFFSETFROM:+0100
TZOFFSETTO:+0200
TZNAME:CEST
DTSTART:20260329T010000
END:DAYLIGHT
BEGIN:STANDARD
TZOFFSETFROM:+0200
TZOFFSETTO:+0100
TZNAME:CET
DTSTART:20261025T010000
END:STANDARD
END:VTIMEZONE
BEGIN:VEVENT
DTSTART;TZID=Europe/Rome:20250609T100000
DTEND;TZID=Europe/Rome:20250609T160000
DTSTAMP:20260425T143922
CREATED:20250404T084236Z
LAST-MODIFIED:20250404T084523Z
UID:10000073-1749463200-1749484800@www.hangar78.com
SUMMARY:Lainox on tour
DESCRIPTION:Non solo biscotti. La pasticceria e i suoi segreti. \nArgomenti trattati: \n\nLievitati da colazione\nLa lievitazione\nGli impasti e la loro gestione\nLe frolle\nLe torte\nL’importanza dell’abbattimento\nAlla scoperta delle monoporzioni\nI prodotti vegani\nOttimizzazione del tempo e cicli e di produzione\n\nDurata 5 ore \nPrezzo € 200.00 + iva \nPer informazioni: \ninfo@hangar78.com \nreferente LAINOX:\n3481207505 \nreferente For Tecno Service:\n389 5939532
URL:https://www.hangar78.com/event/lainox-on-tour-5/
LOCATION:hangar78\, Via Tagliamento 78\, Pianiga\, 30030\, Italia
CATEGORIES:pasticceria,professionale
ATTACH;FMTTYPE=image/jpeg:https://www.hangar78.com/wp-content/uploads/2024/09/corso_semifreddo.jpg
END:VEVENT
BEGIN:VEVENT
DTSTART;TZID=Europe/Rome:20250610T140000
DTEND;TZID=Europe/Rome:20250610T150000
DTSTAMP:20260425T143922
CREATED:20250402T105243Z
LAST-MODIFIED:20250529T130727Z
UID:10000060-1749564000-1749567600@www.hangar78.com
SUMMARY:Demo stampi Silikomart: Tartellette
DESCRIPTION:Partecipa alla nostra demo e scopri le potenzialità degli anelli microforati Silikomart. In questa sessione pratica\, esploreremo come questi stampi innovativi possano essere utilizzati per creare crostate perfette\, sia dolci che salate. Il focus della dimostrazione sarà sulla facilità d’uso\, la versatilità e la qualità dei materiali degli anelli microforati\, ideali per ottenere risultati professionali in cucina. \nQuesta demo si concentrerà sulle tecniche e sugli strumenti professionali per ottenere risultati di alta qualità\, senza entrare nel dettaglio delle ricette. \nIl tuo biglietto vale doppio!\nPartecipa alla demo e ricevi un cashback pari al costo del corso\, da spendere in stampi Silikomart direttamente nello showroom all’interno della nostra scuola di cucina.
URL:https://www.hangar78.com/event/scopri-il-segreto-della-tartelletta-perfetta-la-magia-degli-anelli-microforati-silikomart/
LOCATION:hangar78\, Via Tagliamento 78\, Pianiga\, 30030\, Italia
CATEGORIES:Demo
ATTACH;FMTTYPE=image/jpeg:https://www.hangar78.com/wp-content/uploads/2025/04/Demo_tartelletta.jpg
END:VEVENT
BEGIN:VEVENT
DTSTART;TZID=Europe/Rome:20250611T190000
DTEND;TZID=Europe/Rome:20250611T223000
DTSTAMP:20260425T143922
CREATED:20250317T152603Z
LAST-MODIFIED:20250630T083248Z
UID:10000045-1749668400-1749681000@www.hangar78.com
SUMMARY:Cena estiva con gli amici
DESCRIPTION:Ricette fresche e leggere per serate da ricordare\n\nPer chi ama organizzare cene per amici\, per chi ama l’estate e tutti i colori e sapori di questa stagione unica. \nRicette: \n\nPanzanella a modo mio\nFriselle fresche e colorate\nPomodori ripieni\n\n\n\nCosa è compreso nel corso:\n\nRicettario e dispensa del corso\nDegustazione dei prodotti realizzati\n\nAl termine del corso verrà rilasciato l’attestato di partecipazione firmato dal docente. \nOrari:\nAccoglienza ore 19.15 \nInizio corso ore 19.30 \nFine corso ore 22.30
URL:https://www.hangar78.com/event/cena-estiva-con-gli-amici-2/
LOCATION:hangar78\, Via Tagliamento 78\, Pianiga\, 30030\, Italia
CATEGORIES:amatoriale,amatoriale ristorazione
ATTACH;FMTTYPE=image/jpeg:https://www.hangar78.com/wp-content/uploads/2025/03/panzanella_olio.jpg
END:VEVENT
END:VCALENDAR