BEGIN:VCALENDAR
VERSION:2.0
PRODID:-//Hangar78 - ECPv6.15.20//NONSGML v1.0//EN
CALSCALE:GREGORIAN
METHOD:PUBLISH
X-ORIGINAL-URL:https://www.hangar78.com
X-WR-CALDESC:Eventi per Hangar78
REFRESH-INTERVAL;VALUE=DURATION:PT1H
X-Robots-Tag:noindex
X-PUBLISHED-TTL:PT1H
BEGIN:VTIMEZONE
TZID:Europe/Rome
BEGIN:DAYLIGHT
TZOFFSETFROM:+0100
TZOFFSETTO:+0200
TZNAME:CEST
DTSTART:20240331T010000
END:DAYLIGHT
BEGIN:STANDARD
TZOFFSETFROM:+0200
TZOFFSETTO:+0100
TZNAME:CET
DTSTART:20241027T010000
END:STANDARD
BEGIN:DAYLIGHT
TZOFFSETFROM:+0100
TZOFFSETTO:+0200
TZNAME:CEST
DTSTART:20250330T010000
END:DAYLIGHT
BEGIN:STANDARD
TZOFFSETFROM:+0200
TZOFFSETTO:+0100
TZNAME:CET
DTSTART:20251026T010000
END:STANDARD
BEGIN:DAYLIGHT
TZOFFSETFROM:+0100
TZOFFSETTO:+0200
TZNAME:CEST
DTSTART:20260329T010000
END:DAYLIGHT
BEGIN:STANDARD
TZOFFSETFROM:+0200
TZOFFSETTO:+0100
TZNAME:CET
DTSTART:20261025T010000
END:STANDARD
END:VTIMEZONE
BEGIN:VEVENT
DTSTART;TZID=Europe/Rome:20250620T100000
DTEND;TZID=Europe/Rome:20250620T160000
DTSTAMP:20260425T174917
CREATED:20250404T080004Z
LAST-MODIFIED:20250630T101053Z
UID:10000071-1750413600-1750435200@www.hangar78.com
SUMMARY:Lainox on tour
DESCRIPTION:L’organizzazione non è un opinione: La Banchettistica \nScopriamo la legge dei grandi numeri con Michele Cocchi \nArgomenti trattati: \n\nCome utilizzare la tecnologia per preparare un banchetto\nLa pianificazione e la produzione\nLa gestione del servizio e la sua organizzazione\nCome ottimizzare il tempo mantenendo alta la qualità\nL’importanza del Cook&Chill\nCome abbattere un prodotto in modo corretto\n\nDurata 5 ore \nPrezzo € 200.00 + iva \nPer informazioni: \ninfo@hangar78.com \nreferente LAINOX:\n3481207505 \nreferente For Tecno Service:\n389 5939532 \n  \n 
URL:https://www.hangar78.com/event/lainox-on-tour-3/
LOCATION:hangar78\, Via Tagliamento 78\, Pianiga\, 30030\, Italia
CATEGORIES:professionale,ristorazione
ATTACH;FMTTYPE=image/jpeg:https://www.hangar78.com/wp-content/uploads/2025/03/finger_food.jpg
END:VEVENT
END:VCALENDAR