BEGIN:VCALENDAR
VERSION:2.0
PRODID:-//Hangar78 - ECPv6.15.20//NONSGML v1.0//EN
CALSCALE:GREGORIAN
METHOD:PUBLISH
X-WR-CALNAME:Hangar78
X-ORIGINAL-URL:https://www.hangar78.com
X-WR-CALDESC:Eventi per Hangar78
REFRESH-INTERVAL;VALUE=DURATION:PT1H
X-Robots-Tag:noindex
X-PUBLISHED-TTL:PT1H
BEGIN:VTIMEZONE
TZID:Europe/Rome
BEGIN:DAYLIGHT
TZOFFSETFROM:+0100
TZOFFSETTO:+0200
TZNAME:CEST
DTSTART:20240331T010000
END:DAYLIGHT
BEGIN:STANDARD
TZOFFSETFROM:+0200
TZOFFSETTO:+0100
TZNAME:CET
DTSTART:20241027T010000
END:STANDARD
BEGIN:DAYLIGHT
TZOFFSETFROM:+0100
TZOFFSETTO:+0200
TZNAME:CEST
DTSTART:20250330T010000
END:DAYLIGHT
BEGIN:STANDARD
TZOFFSETFROM:+0200
TZOFFSETTO:+0100
TZNAME:CET
DTSTART:20251026T010000
END:STANDARD
BEGIN:DAYLIGHT
TZOFFSETFROM:+0100
TZOFFSETTO:+0200
TZNAME:CEST
DTSTART:20260329T010000
END:DAYLIGHT
BEGIN:STANDARD
TZOFFSETFROM:+0200
TZOFFSETTO:+0100
TZNAME:CET
DTSTART:20261025T010000
END:STANDARD
END:VTIMEZONE
BEGIN:VEVENT
DTSTART;TZID=Europe/Rome:20251103T090000
DTEND;TZID=Europe/Rome:20251105T170000
DTSTAMP:20260425T061801
CREATED:20250321T112626Z
LAST-MODIFIED:20251024T125101Z
UID:10000052-1762160400-1762362000@www.hangar78.com
SUMMARY:Bean to bar e Creme spalmabili
DESCRIPTION:Dalla lavorazione delle fave di cacao alla creazione di cioccolato artigianale e innovative creme spalmabili\nIl corso è pensato per offrire ai professionisti del settore un’esperienza completa e approfondita nella lavorazione delle fave di cacao\, combinando teoria e pratica. I partecipanti avranno l’opportunità di approfondire la selezione dei calibri delle fave di cacao e il processo di tostatura\, con la possibilità di produrre la massa di cacao utilizzando fave provenienti da due diverse origini. Sarà inoltre possibile esplorare i vari prodotti che si possono ottenere attraverso questo processo di trasformazione. Un aspetto centrale del corso sarà l’acquisizione di competenze nel bilanciamento del cioccolato\, applicato a diverse preparazioni come tavolette e coperture. Infine\, gli studenti approfondiranno la lavorazione delle creme spalmabili\, partendo dalla gianduia tradizionale e sperimentando varianti innovative\, incluse quelle proteiche e completamente vegetali. \nModalità: corso pratico \nIl corso verrà attivato previo raggiungimento del numero minimo di partecipanti \nCosa è compreso nel corso: \n\nRicettario e dispensa del corso\nCoffee break\nLight lunch a buffet\nDegustazione finale dei prodotti realizzati\n\nAl termine del corso verrà rilasciato l’attestato di partecipazione firmato dal docente. \nArticolazione Orari: \n\nAccoglienza ore 8:30\nInizio corso ore 9:00\nFine corso ore 17:30\n\nFocus on: Pastry Chef Luca Bernardini \nLuca Bernardini collabora con Silikomart e hangar78\, occupandosi di ricerca e sviluppo di nuove forme e stampi per la pasticceria contemporanea.
URL:https://www.hangar78.com/event/bean-to-bar-e-creme-spalmabili/
LOCATION:hangar78\, Via Tagliamento 78\, Pianiga\, 30030\, Italia
CATEGORIES:pasticceria,professionale
ATTACH;FMTTYPE=image/jpeg:https://www.hangar78.com/wp-content/uploads/2025/03/bean_to_bar_bernardini.jpg
END:VEVENT
BEGIN:VEVENT
DTSTART;TZID=Europe/Rome:20251106T100000
DTEND;TZID=Europe/Rome:20251106T160000
DTSTAMP:20260425T061801
CREATED:20250725T090633Z
LAST-MODIFIED:20250827T074754Z
UID:10000081-1762423200-1762444800@www.hangar78.com
SUMMARY:Il pane nella ristorazione
DESCRIPTION:Lainox on tour Alta formazione con Davide Damiano \nIL PANE NELLA RISTORAZIONE \nLe tecniche moderne per una cottura moderna \nUn corso dedicato a chi vuole accrescere la conoscenza della panificazione andando ad esplorare nuove tecniche\, nuovi impasti\, nuove farine per poter sfornare sempre pane fresco. \n  \nARGOMENTI TRATTATI \n\nLe diverse tecniche di panificazione moderne\nAlla scoperta dei pre-impasti come la “biga” e il “poolish”\nL’importanza dell’autolisi e i vantaggi della creazione di gel a caldo a base di amidi\nOttimizzare gli impasti e gestire le lievitazioni grazie a camere di lievitazione d’ultima generazione in modo da evitare il lavoro notturno\nSarà possibile cuocere diversi prodotti contemporaneamente\, garantendo la possibilità di sfornare pane fresco in qualsiasi momento della giornata\nLa conoscenza delle materie prime: verranno spiegate le caratteristiche di ogni tipo di farina utilizzata\n\nPrezzo del corso € 200.00 + iva \nAi partecipanti verrà rilasciato un attestato di partecipazione \nIn omaggio: \n\nun grembiule da lavoro con Logo LAINOX\nMateriale didattico e ricette tutte incluse sulla piattaforma NABOOK\n\nPer info e iscrizioni: \nDaniel.Donolato@lainox.com \ncristianreduce@fortecnoservice.net \ninfo@hangar78.com \n 
URL:https://www.hangar78.com/event/2071/
CATEGORIES:Demo
ATTACH;FMTTYPE=image/jpeg:https://www.hangar78.com/wp-content/uploads/2025/03/21.002.13.0065_MINI_BAGUETTE_BREAD_EXTRA.jpg
END:VEVENT
END:VCALENDAR