BEGIN:VCALENDAR
VERSION:2.0
PRODID:-//Hangar78 - ECPv6.15.20//NONSGML v1.0//EN
CALSCALE:GREGORIAN
METHOD:PUBLISH
X-WR-CALNAME:Hangar78
X-ORIGINAL-URL:https://www.hangar78.com
X-WR-CALDESC:Eventi per Hangar78
REFRESH-INTERVAL;VALUE=DURATION:PT1H
X-Robots-Tag:noindex
X-PUBLISHED-TTL:PT1H
BEGIN:VTIMEZONE
TZID:Europe/Rome
BEGIN:DAYLIGHT
TZOFFSETFROM:+0100
TZOFFSETTO:+0200
TZNAME:CEST
DTSTART:20240331T010000
END:DAYLIGHT
BEGIN:STANDARD
TZOFFSETFROM:+0200
TZOFFSETTO:+0100
TZNAME:CET
DTSTART:20241027T010000
END:STANDARD
BEGIN:DAYLIGHT
TZOFFSETFROM:+0100
TZOFFSETTO:+0200
TZNAME:CEST
DTSTART:20250330T010000
END:DAYLIGHT
BEGIN:STANDARD
TZOFFSETFROM:+0200
TZOFFSETTO:+0100
TZNAME:CET
DTSTART:20251026T010000
END:STANDARD
BEGIN:DAYLIGHT
TZOFFSETFROM:+0100
TZOFFSETTO:+0200
TZNAME:CEST
DTSTART:20260329T010000
END:DAYLIGHT
BEGIN:STANDARD
TZOFFSETFROM:+0200
TZOFFSETTO:+0100
TZNAME:CET
DTSTART:20261025T010000
END:STANDARD
END:VTIMEZONE
BEGIN:VEVENT
DTSTART;TZID=Europe/Rome:20251110T090000
DTEND;TZID=Europe/Rome:20251111T170000
DTSTAMP:20260425T061800
CREATED:20250321T113317Z
LAST-MODIFIED:20251103T090804Z
UID:10000053-1762765200-1762880400@www.hangar78.com
SUMMARY:Del pesce non si butta niente
DESCRIPTION:Dalle parti nobili alle meno nobili\, la cucina professionale sfrutta ogni sezione del pesce per creare piatti gourmet e sostenibili.\nNel mondo della cucina professionale\, ogni parte del pesce può essere valorizzata\, dalle più nobili alle meno nobili. Fabio Tammaro\, esperto chef\, insegna come sfruttare al meglio le diverse categorie di pesce (di profondità\, di superficie e di mezz’acqua)\, utilizzando le tecniche di cottura appropriate per esaltarne il sapore unico di ogni parte. Le parti meno nobili del pesce\, come le interiora e le lische\, se trattate correttamente\, possono trasformarsi in ingredienti pregiati\, ottimizzando il food cost e riducendo gli sprechi alimentari. Grazie a queste tecniche\, si applica la filosofia “non si butta via nulla”\, creando piatti gourmet e sostenibili che rispettano l’ambiente e valorizzano ogni parte del pesce. \nModalità: corso dimostrativo \nIl corso verrà attivato previo raggiungimento del numero minimo di partecipanti \nCosa è compreso nel corso: \n\nRicettario e dispensa del corso\nCoffee break\nLight lunch a buffet\n\nAl termine del corso verrà rilasciato l’attestato di partecipazione firmato dal docente. \nArticolazione Orari: \n\nAccoglienza ore 8:30\nInizio corso ore 9:00\nFine corso ore 17:00\n\nFocus on: Chef Fabio Tammaro \nFabio Tammaro è Chef Esecutivo e Consulente con oltre 20 anni di esperienza. Dopo diverse esperienze in Europa\, nel 2010 si stabilisce a Verona\, dove fonda “Seafood Consulting” nel 2021\, offrendo consulenze nel settore della ristorazione. È esperto in organizzazione\, gestione dei costi e ottimizzazione operativa. \n  \n \n  \n 
URL:https://www.hangar78.com/event/valorizzare-ogni-parte-del-pesce-larte-di-ottimizzare-senza-sprechi/
LOCATION:hangar78\, Via Tagliamento 78\, Pianiga\, 30030\, Italia
CATEGORIES:professionale,ristorazione
ATTACH;FMTTYPE=image/jpeg:https://www.hangar78.com/wp-content/uploads/2025/03/PHOTO-2025-03-20-11-01-02-1.jpg
END:VEVENT
BEGIN:VEVENT
DTSTART;TZID=Europe/Rome:20251112T140000
DTEND;TZID=Europe/Rome:20251112T150000
DTSTAMP:20260425T061800
CREATED:20250402T121531Z
LAST-MODIFIED:20251103T091238Z
UID:10000063-1762956000-1762959600@www.hangar78.com
SUMMARY:Demo stampi Silikomart: Tplus+
DESCRIPTION:Partecipa alla nostra demo esclusiva e scopri le straordinarie potenzialità degli stampi in TPlus+ di Silikomart\, ideali per ottenere forme termoformate perfette. Durante questa sessione pratica\, esploreremo come utilizzare questi stampi da forno di alta qualità\, progettati per essere indeformabili\, resistenti agli urti\, alle alte temperature e completamente antiaderenti. Perfetti per la creazione di innovativi cake da viaggio\, questi stampi garantiscono risultati professionali con ogni utilizzo. \nLa demo si concentrerà sull’uso e sulle caratteristiche degli stampi in  TPlus+\, offrendo approfondimenti su come sfruttarli al meglio per ottenere forme perfette senza entrare nel merito delle ricette. \nIl tuo biglietto vale doppio! \nPartecipa alla demo e ricevi un cashback pari al costo del corso\, da spendere in stampi Silikomart direttamente nello showroom all’interno della nostra scuola di cucina. \n 
URL:https://www.hangar78.com/event/cake-da-viaggio-in-tplus-demo-sulluso-del-materiale-tplus-per-cake-sempre-perfetti/
LOCATION:hangar78\, Via Tagliamento 78\, Pianiga\, 30030\, Italia
CATEGORIES:Demo
ATTACH;FMTTYPE=image/jpeg:https://www.hangar78.com/wp-content/uploads/2025/04/Demo_tplus.jpg
END:VEVENT
BEGIN:VEVENT
DTSTART;TZID=Europe/Rome:20251113T193000
DTEND;TZID=Europe/Rome:20251113T220000
DTSTAMP:20260425T061800
CREATED:20250402T143340Z
LAST-MODIFIED:20250903T093536Z
UID:10000067-1763062200-1763071200@www.hangar78.com
SUMMARY:Creme spalmabili dolci e salate
DESCRIPTION:Trasforma il classico delle feste in un capolavoro di sapori dolci e salati che lascerà tutti a bocca aperta. \nImmagina di aggiungere un tocco speciale al tuo panettone\, trasformandolo in un’esplosione di gusto con creme spalmabili irresistibili\, oppure di preparare un panettone gastronomico che stupisce tutti con sapori nuovi e sorprendenti. In questo corso ti guideremo nella creazione di deliziose creme spalmabili da abbinare al tuo panettone\, sia dolce che salato\, per rendere ogni morso un’esperienza unica. Scopriremo insieme come arricchire il classico panettone con abbinamenti sfiziosi e originali\, perfetti per le feste. Unisciti a noi per scoprire il piacere di preparare lievitati dolci e salati che vanno ben oltre le solite ricette\, dando una marcia in più alle tue preparazioni natalizie! \nCosa è compreso nel corso:\n\nRicettario e dispensa del corso\nDegustazione dei prodotti realizzati\n\nAl termine del corso verrà rilasciato l’attestato di partecipazione. \nOrari:\nAccoglienza ore 19.15 \nInizio corso ore 19.30 \nFine corso ore 22.00
URL:https://www.hangar78.com/event/creme-spalmabili-dolci-e-e-salate-per-il-tuo-panettone/
LOCATION:hangar78\, Via Tagliamento 78\, Pianiga\, 30030\, Italia
CATEGORIES:amatoriale,amatoriale pasticceria
ATTACH;FMTTYPE=image/jpeg:https://www.hangar78.com/wp-content/uploads/2025/04/homemade-sweet-condensed-milk-1.jpg
END:VEVENT
END:VCALENDAR